Workbook
Name FilNavn: #REF!
Name FilPlacering: #REF!
Name Mitigering: Opsætning!#REF!

Sheet Planlægning
D1: Planlægning af årshjul for
D2: Virksomhed A/S
D3: =IF(COUNTIF($B$8:$B$30,"Dato fejl")>0,"FEJL: Dato i rød linje er ikke indtastet i (dd-mm-åååå) format",IF(COUNTIF($B$8:$B$30,"Ingen dato")>0, "FEJL: Dato mangler i rød linje","")) -> FEJL: Dato i rød linje er ikke indtastet i (dd-mm-åååå) format | I3: Hjælp
B5: Nr. | C5: Dato: (dd-mm-åå) | E5: Tema 1 | G5: Tema 2 | I5: Tema 3
C6: Forberedelse / Bilag | G6: Yderligere information
A7: # | B7: 1 | C7: Indsæt dato | E7: Vælg tema | G7: Vælg tema | I7: Vælg tema
B8: =IF(AND(C7="",E7="",G7="",I7=""),"",IF(AND(C7="",OR(E7<>"",G7<>"",I7<>"")),"Ingen dato",IF(COUNTIF(Grafdata!$H$10:$H$21,C7)>0,"",IF(AND(C7>40000,C7<60000),"","Dato fejl")))) -> Dato fejl | C8: Forberedelse / Bilag Tryk [Alt] & [Enter] for linjeskift | G8: Yderligere information Tryk [Alt] & [Enter] for linjeskift
A9: TRUE | B9: =Grafdata!J46 -> 2
B10: =IF(AND(C9="",E9="",G9="",I9=""),"",IF(AND(C9="",OR(E9<>"",G9<>"",I9<>"")),"Ingen dato",IF(COUNTIF(Grafdata!$H$10:$H$21,C9)>0,"",IF(AND(C9>40000,C9<60000),"","Dato fejl"))))
A11: TRUE | B11: =Grafdata!J48 -> 3
B12: =IF(AND(C11="",E11="",G11="",I11=""),"",IF(AND(C11="",OR(E11<>"",G11<>"",I11<>"")),"Ingen dato",IF(COUNTIF(Grafdata!$H$10:$H$21,C11)>0,"",IF(AND(C11>40000,C11<60000),"","Dato fejl"))))
A13: TRUE | B13: =Grafdata!J50 -> 4
B14: =IF(AND(C13="",E13="",G13="",I13=""),"",IF(AND(C13="",OR(E13<>"",G13<>"",I13<>"")),"Ingen dato",IF(COUNTIF(Grafdata!$H$10:$H$21,C13)>0,"",IF(AND(C13>40000,C13<60000),"","Dato fejl"))))
A15: TRUE | B15: =Grafdata!J52 -> 5
B16: =IF(AND(C15="",E15="",G15="",I15=""),"",IF(AND(C15="",OR(E15<>"",G15<>"",I15<>"")),"Ingen dato",IF(COUNTIF(Grafdata!$H$10:$H$21,C15)>0,"",IF(AND(C15>40000,C15<60000),"","Dato fejl"))))
A17: TRUE | B17: =Grafdata!J54 -> 6
B18: =IF(AND(C17="",E17="",G17="",I17=""),"",IF(AND(C17="",OR(E17<>"",G17<>"",I17<>"")),"Ingen dato",IF(COUNTIF(Grafdata!$H$10:$H$21,C17)>0,"",IF(AND(C17>40000,C17<60000),"","Dato fejl"))))
A19: TRUE | B19: =Grafdata!J56 -> 7
B20: =IF(AND(C19="",E19="",G19="",I19=""),"",IF(AND(C19="",OR(E19<>"",G19<>"",I19<>"")),"Ingen dato",IF(COUNTIF(Grafdata!$H$10:$H$21,C19)>0,"",IF(AND(C19>40000,C19<60000),"","Dato fejl"))))
A21: TRUE | B21: =Grafdata!J58 -> 8
B22: =IF(AND(C21="",E21="",G21="",I21=""),"",IF(AND(C21="",OR(E21<>"",G21<>"",I21<>"")),"Ingen dato",IF(COUNTIF(Grafdata!$H$10:$H$21,C21)>0,"",IF(AND(C21>40000,C21<60000),"","Dato fejl"))))
A23: TRUE | B23: =Grafdata!J60 -> 9
B24: =IF(AND(C23="",E23="",G23="",I23=""),"",IF(AND(C23="",OR(E23<>"",G23<>"",I23<>"")),"Ingen dato",IF(COUNTIF(Grafdata!$H$10:$H$21,C23)>0,"",IF(AND(C23>40000,C23<60000),"","Dato fejl"))))
A25: TRUE | B25: =Grafdata!J62 -> 10
B26: =IF(AND(C25="",E25="",G25="",I25=""),"",IF(AND(C25="",OR(E25<>"",G25<>"",I25<>"")),"Ingen dato",IF(COUNTIF(Grafdata!$H$10:$H$21,C25)>0,"",IF(AND(C25>40000,C25<60000),"","Dato fejl"))))
A27: TRUE | B27: =B25+1 -> 11
B28: =IF(AND(C27="",E27="",G27="",I27=""),"",IF(AND(C27="",OR(E27<>"",G27<>"",I27<>"")),"Ingen dato",IF(COUNTIF(Grafdata!$H$10:$H$21,C27)>0,"",IF(AND(C27>40000,C27<60000),"","Dato fejl"))))
A29: TRUE | B29: =Grafdata!J66 -> 12
B30: =IF(AND(C29="",E29="",G29="",I29=""),"",IF(AND(C29="",OR(E29<>"",G29<>"",I29<>"")),"Ingen dato",IF(COUNTIF(Grafdata!$H$10:$H$21,C29)>0,"",IF(AND(C29>40000,C29<60000),"","Dato fejl"))))
A32: Bemærkninger for alle møder og bestyrelsesarbejdet generelt
B44: Tryk [Alt] & [Enter] for linjeskift

Sheet Årshjul
D1: Årshjul for
D2: =Planlægning!D2 -> Virksomhed A/S
Q3: Hjælp
A31: =Planlægning!A32 -> Bemærkninger for alle møder og bestyrelsesarbejdet generelt
A32: =IF(Planlægning!A33="","",Planlægning!A33)
D52: Bestyrelsens årshjul for
D53: =Planlægning!D2 -> Virksomhed A/S
Q54: Hjælp
A58: =IF(Planlægning!C7<>"",TEXT("Møde # "&Planlægning!B7&", "&TEXT(Planlægning!C7,"dddd d. mmmm åååå"),),"") -> Møde # 1, Indsæt dato | J58: =IF(Planlægning!C9<>"",TEXT("Møde # "&Planlægning!B9&", "&TEXT(Planlægning!C9,"dddd d. mmmm åååå"),),"")
A59: =IF(A58<>"","Tema:","") -> Tema: | J59: =IF(J58<>"","Tema:","")
A60: =IF(A58<>"",TEXT(Planlægning!E7,),"") -> Vælg tema | J60: =IF(J58<>"",TEXT(Planlægning!E9,),"")
A61: =IF(A58<>"",TEXT(Planlægning!G7,),"") -> Vælg tema | J61: =IF(J58<>"",TEXT(Planlægning!G9,),"")
A62: =IF(A58<>"",TEXT(Planlægning!I7,),"") -> Vælg tema | J62: =IF(J58<>"",TEXT(Planlægning!I9,),"")
A63: =IF(A58<>"",IF(Planlægning!C8<>"",Planlægning!C8,""),"") -> Forberedelse / Bilag Tryk [Alt] & [Enter] for linjeskift | J63: =IF(J58<>"",IF(Planlægning!C10<>"",Planlægning!C10,""),"")
A66: =IF(A58<>"",IF(Planlægning!G8<>"",Planlægning!G8,""),"") -> Yderligere information Tryk [Alt] & [Enter] for linjeskift | J66: =IF(J58<>"",IF(Planlægning!G10<>"",Planlægning!G10,""),"")
A73: =IF(Planlægning!C11<>"",TEXT("Møde # "&Planlægning!B11&", "&TEXT(Planlægning!C11,"dddd d. mmmm åååå"),),"") | J73: =IF(Planlægning!C13<>"",TEXT("Møde # "&Planlægning!B13&", "&TEXT(Planlægning!C13,"dddd d. mmmm åååå"),),"")
A74: =IF(A73<>"","Tema:","") | J74: =IF(J73<>"","Tema:","")
A75: =IF(A73<>"",TEXT(Planlægning!E11,),"") | J75: =IF(J73<>"",TEXT(Planlægning!E13,),"")
A76: =IF(A73<>"",TEXT(Planlægning!G11,),"") | J76: =IF(J73<>"",TEXT(Planlægning!G13,),"")
A77: =IF(A73<>"",TEXT(Planlægning!I11,),"") | J77: =IF(J73<>"",TEXT(Planlægning!I13,),"")
A78: =IF(A73<>"",IF(Planlægning!C12<>"",Planlægning!C12,""),"") | J78: =IF(J73<>"",IF(Planlægning!C14<>"",Planlægning!C14,""),"")
A81: =IF(A73<>"",IF(Planlægning!G12<>"",Planlægning!G12,""),"") | J81: =IF(J73<>"",IF(Planlægning!G14<>"",Planlægning!G14,""),"")
A88: =IF(Planlægning!C15<>"",TEXT("Møde # "&Planlægning!B15&", "&TEXT(Planlægning!C15,"dddd d. mmmm åååå"),),"") | J88: =IF(Planlægning!C17<>"",TEXT("Møde # "&Planlægning!B17&", "&TEXT(Planlægning!C17,"dddd d. mmmm åååå"),),"")
A89: =IF(A88<>"","Tema:","") | J89: =IF(J88<>"","Tema:","")
A90: =IF(A88<>"",TEXT(Planlægning!E15,),"") | J90: =IF(J88<>"",TEXT(Planlægning!E17,),"")
A91: =IF(A88<>"",TEXT(Planlægning!G15,),"") | J91: =IF(J88<>"",TEXT(Planlægning!G17,),"")
A92: =IF(A88<>"",TEXT(Planlægning!I15,),"") | J92: =IF(J88<>"",TEXT(Planlægning!I17,),"")
A93: =IF(A88<>"",IF(Planlægning!C16<>"",Planlægning!C16,""),"") | J93: =IF(J88<>"",IF(Planlægning!C18<>"",Planlægning!C18,""),"")
A96: =IF(A88<>"",IF(Planlægning!G16<>"",Planlægning!G16,""),"") | J96: =IF(J88<>"",IF(Planlægning!G18<>"",Planlægning!G18,""),"")
A103: =IF(A108<>"","Årshjul","")
A108: =IF(Planlægning!C19<>"",TEXT("Møde # "&Planlægning!B19&", "&TEXT(Planlægning!C19,"dddd d. mmmm åååå"),),"") | J108: =IF(Planlægning!C21<>"",TEXT("Møde # "&Planlægning!B21&", "&TEXT(Planlægning!C21,"dddd d. mmmm åååå"),),"")
A109: =IF(A108<>"","Tema:","") | J109: =IF(J108<>"","Tema:","")
A110: =IF(A108<>"",TEXT(Planlægning!E19,),"") | J110: =IF(J108<>"",TEXT(Planlægning!E21,),"")
A111: =IF(A108<>"",TEXT(Planlægning!G19,),"") | J111: =IF(J108<>"",TEXT(Planlægning!G21,),"")
A112: =IF(A108<>"",TEXT(Planlægning!I19,),"") | J112: =IF(J108<>"",TEXT(Planlægning!I21,),"")
A113: =IF(A108<>"",IF(Planlægning!C20<>"",Planlægning!C20,""),"") | J113: =IF(J108<>"",IF(Planlægning!C22<>"",Planlægning!C22,""),"")
A116: =IF(A108<>"",IF(Planlægning!G20<>"",Planlægning!G20,""),"") | J116: =IF(J108<>"",IF(Planlægning!G22<>"",Planlægning!G22,""),"")
A123: =IF(Planlægning!C23<>"",TEXT("Møde # "&Planlægning!B23&", "&TEXT(Planlægning!C23,"dddd d. mmmm åååå"),),"") | J123: =IF(Planlægning!C25<>"",TEXT("Møde # "&Planlægning!B25&", "&TEXT(Planlægning!C25,"dddd d. mmmm åååå"),),"")
A124: =IF(A123<>"","Tema:","") | J124: =IF(J123<>"","Tema:","")
A125: =IF(A123<>"",TEXT(Planlægning!E23,),"") | J125: =IF(J123<>"",TEXT(Planlægning!E25,),"")
...

Sheet Opsætning
D1: Opsætning
F3: Læs Hjælp for du ændre noget her | R3: Hjælp
A5: Medtag | B5: Fast | C5: Temaer | H5: Ibrug | K5: Resterende | P5: Sorteret for blanke
A6: TRUE | B6: TRUE | C6: STRATEGI: | H6: =COUNTIF(Planlægning!E$7:I$23,IF(B6," ",C6))>0 -> FALSE | K6: =IF(A6,IF(H6,"",IF(C6<>"",C6,"")),"") -> STRATEGI: | P6: {=_xlfn._xlws.FILTER(K6:K122,(K6:K122<>""),)} -> STRATEGI:
A7: TRUE | B7: FALSE | C7: Strategiworkshop | H7: =COUNTIF(Planlægning!E$7:I$23,IF(B7," ",C7))>0 -> FALSE | K7: =IF(A7,IF(H7,"",IF(C7<>"",C7,"")),"") -> Strategiworkshop | P7: Strategiworkshop
A8: TRUE | B8: TRUE | C8: Strategiopfølgning | H8: =COUNTIF(Planlægning!E$7:I$23,IF(B8," ",C8))>0 -> FALSE | K8: =IF(A8,IF(H8,"",IF(C8<>"",C8,"")),"") -> Strategiopfølgning | P8: Strategiopfølgning
A9: TRUE | B9: FALSE | C9: Purpose, vision, mission | H9: =COUNTIF(Planlægning!E$7:I$23,IF(B9," ",C9))>0 -> FALSE | K9: =IF(A9,IF(H9,"",IF(C9<>"",C9,"")),"") -> Purpose, vision, mission | P9: Purpose, vision, mission
A10: TRUE | B10: FALSE | C10: Mål og KPI’er | H10: =COUNTIF(Planlægning!E$7:I$23,IF(B10," ",C10))>0 -> FALSE | K10: =IF(A10,IF(H10,"",IF(C10<>"",C10,"")),"") -> Mål og KPI’er | P10: Mål og KPI’er
A11: TRUE | B11: FALSE | H11: =COUNTIF(Planlægning!E$7:I$23,IF(B11," ",C11))>0 -> FALSE | K11: =IF(A11,IF(H11,"",IF(C11<>"",C11,"")),"") | P11: RISIKO:
A12: TRUE | B12: FALSE | H12: =COUNTIF(Planlægning!E$7:I$23,IF(B12," ",C12))>0 -> FALSE | K12: =IF(A12,IF(H12,"",IF(C12<>"",C12,"")),"") | P12: Risiko
A13: TRUE | B13: TRUE | C13: RISIKO: | H13: =COUNTIF(Planlægning!E$7:I$23,IF(B13," ",C13))>0 -> FALSE | K13: =IF(A13,IF(H13,"",IF(C13<>"",C13,"")),"") -> RISIKO: | P13: Risiko (IT/Cyber)
A14: TRUE | B14: TRUE | C14: Risiko | H14: =COUNTIF(Planlægning!E$7:I$23,IF(B14," ",C14))>0 -> FALSE | K14: =IF(A14,IF(H14,"",IF(C14<>"",C14,"")),"") -> Risiko | P14: Risiko workshop
A15: TRUE | B15: FALSE | C15: Risiko (IT/Cyber) | H15: =COUNTIF(Planlægning!E$7:I$23,IF(B15," ",C15))>0 -> FALSE | K15: =IF(A15,IF(H15,"",IF(C15<>"",C15,"")),"") -> Risiko (IT/Cyber) | P15: Risiko analyse
A16: TRUE | B16: FALSE | C16: Risiko workshop | H16: =COUNTIF(Planlægning!E$7:I$23,IF(B16," ",C16))>0 -> FALSE | K16: =IF(A16,IF(H16,"",IF(C16<>"",C16,"")),"") -> Risiko workshop | P16: Beredskabsplaner
A17: TRUE | B17: FALSE | C17: Risiko analyse | H17: =COUNTIF(Planlægning!E$7:I$23,IF(B17," ",C17))>0 -> FALSE | K17: =IF(A17,IF(H17,"",IF(C17<>"",C17,"")),"") -> Risiko analyse | P17: Forsikringer
A18: TRUE | C18: Beredskabsplaner | H18: =COUNTIF(Planlægning!E$7:I$23,IF(B18," ",C18))>0 -> FALSE | K18: =IF(A18,IF(H18,"",IF(C18<>"",C18,"")),"") -> Beredskabsplaner | P18: KAPITALBEREDSKAB:
A19: TRUE | C19: Forsikringer | H19: =COUNTIF(Planlægning!E$7:I$23,IF(B19," ",C19))>0 -> FALSE | K19: =IF(A19,IF(H19,"",IF(C19<>"",C19,"")),"") -> Forsikringer | P19: Kapitalberedskab
A20: TRUE | B20: FALSE | H20: =COUNTIF(Planlægning!E$7:I$23,IF(B20," ",C20))>0 -> FALSE | K20: =IF(A20,IF(H20,"",IF(C20<>"",C20,"")),"") | P20: Likviditetsanalyse
A21: TRUE | B21: FALSE | H21: =COUNTIF(Planlægning!E$7:I$23,IF(B21," ",C21))>0 -> FALSE | K21: =IF(A21,IF(H21,"",IF(C21<>"",C21,"")),"") | P21: Kapitalfremskaffelse
A22: TRUE | B22: FALSE | C22: KAPITALBEREDSKAB: | H22: =COUNTIF(Planlægning!E$7:I$23,IF(B22," ",C22))>0 -> FALSE | K22: =IF(A22,IF(H22,"",IF(C22<>"",C22,"")),"") -> KAPITALBEREDSKAB: | P22: GENERALFORSAMLING:
A23: TRUE | B23: TRUE | C23: Kapitalberedskab | H23: =COUNTIF(Planlægning!E$7:I$23,IF(B23," ",C23))>0 -> FALSE | K23: =IF(A23,IF(H23,"",IF(C23<>"",C23,"")),"") -> Kapitalberedskab | P23: Forberedelse af GF
A24: TRUE | B24: TRUE | C24: Likviditetsanalyse | H24: =COUNTIF(Planlægning!E$7:I$23,IF(B24," ",C24))>0 -> FALSE | K24: =IF(A24,IF(H24,"",IF(C24<>"",C24,"")),"") -> Likviditetsanalyse | P24: Generalforsamling
A25: TRUE | B25: TRUE | C25: Kapitalfremskaffelse | H25: =COUNTIF(Planlægning!E$7:I$23,IF(B25," ",C25))>0 -> FALSE | K25: =IF(A25,IF(H25,"",IF(C25<>"",C25,"")),"") -> Kapitalfremskaffelse | P25: Vedtægter
A26: TRUE | B26: FALSE | H26: =COUNTIF(Planlægning!E$7:I$23,IF(B26," ",C26))>0 -> FALSE | K26: =IF(A26,IF(H26,"",IF(C26<>"",C26,"")),"") | P26: Valg af bestyrelse
A27: TRUE | B27: FALSE | H27: =COUNTIF(Planlægning!E$7:I$23,IF(B27," ",C27))>0 -> FALSE | K27: =IF(A27,IF(H27,"",IF(C27<>"",C27,"")),"") | P27: Kontrakter og honorar
A28: TRUE | B28: TRUE | C28: GENERALFORSAMLING: | H28: =COUNTIF(Planlægning!E$7:I$23,IF(B28," ",C28))>0 -> FALSE | K28: =IF(A28,IF(H28,"",IF(C28<>"",C28,"")),"") -> GENERALFORSAMLING: | P28: ÅRSRAPPORT:
A29: TRUE | B29: FALSE | C29: Forberedelse af GF | H29: =COUNTIF(Planlægning!E$7:I$23,IF(B29," ",C29))>0 -> FALSE | K29: =IF(A29,IF(H29,"",IF(C29<>"",C29,"")),"") -> Forberedelse af GF | P29: Godkendelse Årsrapport
A30: TRUE | B30: FALSE | C30: Generalforsamling | H30: =COUNTIF(Planlægning!E$7:I$23,IF(B30," ",C30))>0 -> FALSE | K30: =IF(A30,IF(H30,"",IF(C30<>"",C30,"")),"") -> Generalforsamling | P30: Analyse af årsrapport
A31: TRUE | C31: Vedtægter | H31: =COUNTIF(Planlægning!E$7:I$23,IF(B31," ",C31))>0 -> FALSE | K31: =IF(A31,IF(H31,"",IF(C31<>"",C31,"")),"") -> Vedtægter | P31: RAPPORTERING:
A32: TRUE | C32: Valg af bestyrelse | H32: =COUNTIF(Planlægning!E$7:I$23,IF(B32," ",C32))>0 -> FALSE | K32: =IF(A32,IF(H32,"",IF(C32<>"",C32,"")),"") -> Valg af bestyrelse | P32: Kvartalsrapport
A33: TRUE | C33: Kontrakter og honorar | H33: =COUNTIF(Planlægning!E$7:I$23,IF(B33," ",C33))>0 -> FALSE | K33: =IF(A33,IF(H33,"",IF(C33<>"",C33,"")),"") -> Kontrakter og honorar | P33: Halvårsrapport
A34: TRUE | B34: FALSE | H34: =COUNTIF(Planlægning!E$7:I$23,IF(B34," ",C34))>0 -> FALSE | K34: =IF(A34,IF(H34,"",IF(C34<>"",C34,"")),"") | P34: BUDGET:
A35: TRUE | B35: FALSE | H35: =COUNTIF(Planlægning!E$7:I$23,IF(B35," ",C35))>0 -> FALSE | K35: =IF(A35,IF(H35,"",IF(C35<>"",C35,"")),"") | P35: Budgetramme
A36: TRUE | B36: TRUE | C36: ÅRSRAPPORT: | H36: =COUNTIF(Planlægning!E$7:I$23,IF(B36," ",C36))>0 -> FALSE | K36: =IF(A36,IF(H36,"",IF(C36<>"",C36,"")),"") -> ÅRSRAPPORT: | P36: Budgetgodkendelse
A37: TRUE | B37: FALSE | C37: Godkendelse Årsrapport | H37: =COUNTIF(Planlægning!E$7:I$23,IF(B37," ",C37))>0 -> FALSE | K37: =IF(A37,IF(H37,"",IF(C37<>"",C37,"")),"") -> Godkendelse Årsrapport | P37: Investeringer
A38: TRUE | B38: FALSE | C38: Analyse af årsrapport | H38: =COUNTIF(Planlægning!E$7:I$23,IF(B38," ",C38))>0 -> FALSE | K38: =IF(A38,IF(H38,"",IF(C38<>"",C38,"")),"") -> Analyse af årsrapport | P38: KUNDER & MARKED:
A39: TRUE | B39: FALSE | H39: =COUNTIF(Planlægning!E$7:I$23,IF(B39," ",C39))>0 -> FALSE | K39: =IF(A39,IF(H39,"",IF(C39<>"",C39,"")),"") | P39: Kundeanalyse
A40: TRUE | B40: FALSE | H40: =COUNTIF(Planlægning!E$7:I$23,IF(B40," ",C40))>0 -> FALSE | K40: =IF(A40,IF(H40,"",IF(C40<>"",C40,"")),"") | P40: Kundetilfredshed
A41: TRUE | B41: TRUE | C41: RAPPORTERING: | H41: =COUNTIF(Planlægning!E$7:I$23,IF(B41," ",C41))>0 -> FALSE | K41: =IF(A41,IF(H41,"",IF(C41<>"",C41,"")),"") -> RAPPORTERING: | P41: Markedsanalyse
A42: TRUE | B42: TRUE | C42: Kvartalsrapport | H42: =COUNTIF(Planlægning!E$7:I$23,IF(B42," ",C42))>0 -> FALSE | K42: =IF(A42,IF(H42,"",IF(C42<>"",C42,"")),"") -> Kvartalsrapport | P42: Konkurrentanalyse
...

Sheet Grafdata
D2: Hjælpeark for beregning for grafik
A6: Beregning af dato cirkel
A7: Year first | B7: {=INDEX(B10:B21,MATCH(TRUE,INDEX((B10:B21<>0),0),0))} | C7: =IFERROR(IF(B7=B8," "&B7,RIGHT(B7,2)&"/"&RIGHT(B8,2)),"")
A8: Year last | B8: {=LOOKUP(2,1/(B10:B21<>""),B10:B21)} -> #N/A | G8: Long | M8: Bold | N8: Norm
A9: Møde dato | B9: Møde år | C9: Måned | D9: Samme mdr. | F9: Nr. | G9: Short | I9: Møde mdr. sort | K9: Fordelt mdr | M9: med dato
A10: =IF(Planlægning!C7<>"",Planlægning!C7,"") -> Indsæt dato | B10: =IFERROR(YEAR(A10),"") | C10: =IFERROR(MONTH(A10),LEFT(A10,3)) -> Ind | D10: =IF(COUNTIF($C$10:C10,IF(C10="","xxx",C10))>1,"DUP","") | E10: =(IF(D11<>"DUP",TEXT(A10,"d. mmm"),TEXT(A10,"d. mmm")&CHAR(10)&TEXT(A11,"d. mmm"))) -> Indsæt dato | F10: 1 | G10: Jan | H10: Januar | I10: =IF(A10<>"",TEXT(A10,"mmm"),"") -> Indsæt dato | J10: =IF(COUNTIF($C$10:$C$21,G10),G10,"") | K10: =IF(COUNTIF($I$10:$I$21,G10),G10,"") | M10: =IF(K10<>"",IFERROR(INDEX($E$10:$E$21,MATCH(K10,$I$10:$I$21,0),1),""),J10) | N10: =IF(M10="",G10,"") -> Jan | O10: 1
A11: =IF(Planlægning!C9<>"",Planlægning!C9,"") | B11: =IFERROR(YEAR(A11),"") | C11: =IFERROR(MONTH(A11),LEFT(A11,3)) | D11: =IF(COUNTIF($C$10:C11,IF(C11="","xxx",C11))>1,"DUP","") | E11: =(IF(D12<>"DUP",TEXT(A11,"d. mmm"),TEXT(A11,"d. mmm")&CHAR(10)&TEXT(A12,"d. mmm"))) | F11: 2 | G11: Feb | H11: Februar | I11: =IF(A11<>"",TEXT(A11,"mmm"),"") | J11: =IF(COUNTIF($C$10:$C$21,G11),G11,"") | K11: =IF(COUNTIF($I$10:$I$21,G11),G11,"") | M11: =IF(K11<>"",IFERROR(INDEX($E$10:$E$21,MATCH(K11,$I$10:$I$21,0),1),""),J11) | N11: =IF(M11="",G11,"") -> Feb | O11: 1
A12: =IF(Planlægning!C11<>"",Planlægning!C11,"") | B12: =IFERROR(YEAR(A12),"") | C12: =IFERROR(MONTH(A12),LEFT(A12,3)) | D12: =IF(COUNTIF($C$10:C12,IF(C12="","xxx",C12))>1,"DUP","") | E12: =(IF(D13<>"DUP",TEXT(A12,"d. mmm"),TEXT(A12,"d. mmm")&CHAR(10)&TEXT(A13,"d. mmm"))) | F12: 3 | G12: Mar | H12: Marts | I12: =IF(A12<>"",TEXT(A12,"mmm"),"") | J12: =IF(COUNTIF($C$10:$C$21,G12),G12,"") | K12: =IF(COUNTIF($I$10:$I$21,G12),G12,"") | M12: =IF(K12<>"",IFERROR(INDEX($E$10:$E$21,MATCH(K12,$I$10:$I$21,0),1),""),J12) | N12: =IF(M12="",G12,"") -> Mar | O12: 1
A13: =IF(Planlægning!C13<>"",Planlægning!C13,"") | B13: =IFERROR(YEAR(A13),"") | C13: =IFERROR(MONTH(A13),LEFT(A13,3)) | D13: =IF(COUNTIF($C$10:C13,IF(C13="","xxx",C13))>1,"DUP","") | E13: =(IF(D14<>"DUP",TEXT(A13,"d. mmm"),TEXT(A13,"d. mmm")&CHAR(10)&TEXT(A14,"d. mmm"))) | F13: 4 | G13: Apr | H13: April | I13: =IF(A13<>"",TEXT(A13,"mmm"),"") | J13: =IF(COUNTIF($C$10:$C$21,G13),G13,"") | K13: =IF(COUNTIF($I$10:$I$21,G13),G13,"") | M13: =IF(K13<>"",IFERROR(INDEX($E$10:$E$21,MATCH(K13,$I$10:$I$21,0),1),""),J13) | N13: =IF(M13="",G13,"") -> Apr | O13: 1
A14: =IF(Planlægning!C15<>"",Planlægning!C15,"") | B14: =IFERROR(YEAR(A14),"") | C14: =IFERROR(MONTH(A14),LEFT(A14,3)) | D14: =IF(COUNTIF($C$10:C14,IF(C14="","xxx",C14))>1,"DUP","") | E14: =(IF(D15<>"DUP",TEXT(A14,"d. mmm"),TEXT(A14,"d. mmm")&CHAR(10)&TEXT(A15,"d. mmm"))) | F14: 5 | G14: Maj | H14: Maj | I14: =IF(A14<>"",TEXT(A14,"mmm"),"") | J14: =IF(COUNTIF($C$10:$C$21,G14),G14,"") | K14: =IF(COUNTIF($I$10:$I$21,G14),G14,"") | M14: =IF(K14<>"",IFERROR(INDEX($E$10:$E$21,MATCH(K14,$I$10:$I$21,0),1),""),J14) | N14: =IF(M14="",G14,"") -> Maj | O14: 1
A15: =IF(Planlægning!C17<>"",Planlægning!C17,"") | B15: =IFERROR(YEAR(A15),"") | C15: =IFERROR(MONTH(A15),LEFT(A15,3)) | D15: =IF(COUNTIF($C$10:C15,IF(C15="","xxx",C15))>1,"DUP","") | E15: =(IF(D16<>"DUP",TEXT(A15,"d. mmm"),TEXT(A15,"d. mmm")&CHAR(10)&TEXT(A16,"d. mmm"))) | F15: 6 | G15: Jun | H15: Juni | I15: =IF(A15<>"",TEXT(A15,"mmm"),"") | J15: =IF(COUNTIF($C$10:$C$21,G15),G15,"") | K15: =IF(COUNTIF($I$10:$I$21,G15),G15,"") | M15: =IF(K15<>"",IFERROR(INDEX($E$10:$E$21,MATCH(K15,$I$10:$I$21,0),1),""),J15) | N15: =IF(M15="",G15,"") -> Jun | O15: 1
A16: =IF(Planlægning!C19<>"",Planlægning!C19,"") | B16: =IFERROR(YEAR(A16),"") | C16: =IFERROR(MONTH(A16),LEFT(A16,3)) | D16: =IF(COUNTIF($C$10:C16,IF(C16="","xxx",C16))>1,"DUP","") | E16: =(IF(D17<>"DUP",TEXT(A16,"d. mmm"),TEXT(A16,"d. mmm")&CHAR(10)&TEXT(A17,"d. mmm"))) | F16: 7 | G16: Jul | H16: Juli | I16: =IF(A16<>"",TEXT(A16,"mmm"),"") | J16: =IF(COUNTIF($C$10:$C$21,G16),G16,"") | K16: =IF(COUNTIF($I$10:$I$21,G16),G16,"") | M16: =IF(K16<>"",IFERROR(INDEX($E$10:$E$21,MATCH(K16,$I$10:$I$21,0),1),""),J16) | N16: =IF(M16="",G16,"") -> Jul | O16: 1
A17: =IF(Planlægning!C21<>"",Planlægning!C21,"") | B17: =IFERROR(YEAR(A17),"") | C17: =IFERROR(MONTH(A17),LEFT(A17,3)) | D17: =IF(COUNTIF($C$10:C17,IF(C17="","xxx",C17))>1,"DUP","") | E17: =(IF(D18<>"DUP",TEXT(A17,"d. mmm"),TEXT(A17,"d. mmm")&CHAR(10)&TEXT(A18,"d. mmm"))) | F17: 8 | G17: Aug | H17: August | I17: =IF(A17<>"",TEXT(A17,"mmm"),"") | J17: =IF(COUNTIF($C$10:$C$21,G17),G17,"") | K17: =IF(COUNTIF($I$10:$I$21,G17),G17,"") | M17: =IF(K17<>"",IFERROR(INDEX($E$10:$E$21,MATCH(K17,$I$10:$I$21,0),1),""),J17) | N17: =IF(M17="",G17,"") -> Aug | O17: 1
A18: =IF(Planlægning!C23<>"",Planlægning!C23,"") | B18: =IFERROR(YEAR(A18),"") | C18: =IFERROR(MONTH(A18),LEFT(A18,3)) | D18: =IF(COUNTIF($C$10:C18,IF(C18="","xxx",C18))>1,"DUP","") | E18: =(IF(D19<>"DUP",TEXT(A18,"d. mmm"),TEXT(A18,"d. mmm")&CHAR(10)&TEXT(A19,"d. mmm"))) | F18: 9 | G18: Sep | H18: September | I18: =IF(A18<>"",TEXT(A18,"mmm"),"") | J18: =IF(COUNTIF($C$10:$C$21,G18),G18,"") | K18: =IF(COUNTIF($I$10:$I$21,G18),G18,"") | M18: =IF(K18<>"",IFERROR(INDEX($E$10:$E$21,MATCH(K18,$I$10:$I$21,0),1),""),J18) | N18: =IF(M18="",G18,"") -> Sep | O18: 1
A19: =IF(Planlægning!C25<>"",Planlægning!C25,"") | B19: =IFERROR(YEAR(A19),"") | C19: =IFERROR(MONTH(A19),LEFT(A19,3)) | D19: =IF(COUNTIF($C$10:C19,IF(C19="","xxx",C19))>1,"DUP","") | E19: =(IF(D20<>"DUP",TEXT(A19,"d. mmm"),TEXT(A19,"d. mmm")&CHAR(10)&TEXT(A20,"d. mmm"))) | F19: 10 | G19: Okt | H19: Oktober | I19: =IF(A19<>"",TEXT(A19,"mmm"),"") | J19: =IF(COUNTIF($C$10:$C$21,G19),G19,"") | K19: =IF(COUNTIF($I$10:$I$21,G19),G19,"") | M19: =IF(K19<>"",IFERROR(INDEX($E$10:$E$21,MATCH(K19,$I$10:$I$21,0),1),""),J19) | N19: =IF(M19="",G19,"") -> Okt | O19: 1
A20: =IF(Planlægning!C27<>"",Planlægning!C27,"") | B20: =IFERROR(YEAR(A20),"") | C20: =IFERROR(MONTH(A20),LEFT(A20,3)) | D20: =IF(COUNTIF($C$10:C20,IF(C20="","xxx",C20))>1,"DUP","") | E20: =(IF(D21<>"DUP",TEXT(A20,"d. mmm"),TEXT(A20,"d. mmm")&CHAR(10)&TEXT(A21,"d. mmm"))) | F20: 11 | G20: Nov | H20: November | I20: =IF(A20<>"",TEXT(A20,"mmm"),"") | J20: =IF(COUNTIF($C$10:$C$21,G20),G20,"") | K20: =IF(COUNTIF($I$10:$I$21,G20),G20,"") | M20: =IF(K20<>"",IFERROR(INDEX($E$10:$E$21,MATCH(K20,$I$10:$I$21,0),1),""),J20) | N20: =IF(M20="",G20,"") -> Nov | O20: 1
A21: =IF(Planlægning!C29<>"",Planlægning!C29,"") | B21: =IFERROR(YEAR(A21),"") | C21: =IFERROR(MONTH(A21),LEFT(A21,3)) | D21: =IF(COUNTIF($C$10:C21,IF(C21="","xxx",C21))>1,"DUP","") | E21: =(IF(D22<>"DUP",TEXT(A21,"d. mmm"),TEXT(A21,"d. mmm")&CHAR(10)&TEXT(A22,"d. mmm"))) | F21: 12 | G21: Dec | H21: December | I21: =IF(A21<>"",TEXT(A21,"mmm"),"") | J21: =IF(COUNTIF($C$10:$C$21,G21),G21,"") | K21: =IF(COUNTIF($I$10:$I$21,G21),G21,"") | M21: =IF(K21<>"",IFERROR(INDEX($E$10:$E$21,MATCH(K21,$I$10:$I$21,0),1),""),J21) | N21: =IF(M21="",G21,"") -> Dec | O21: 1
A23: Sortering af data for møde cirkel
A25: Dato | B25: Mdr nr | C25: Møde nr | D25: Temaer | F25: Dato | G25: Mdr nr | H25: Møde nr | I25: Temaer
A26: =IF(Planlægning!C7<>"",Planlægning!C7,"") -> Indsæt dato | B26: =IFERROR(MONTH(A26),INDEX($F$10:$F$21,MATCH(A26,$H$10:$H$21,0),1)) -> #N/A | C26: =IF(Planlægning!B7<>"",Planlægning!B7,"") -> 1 | D26: =IF(A26<>"",_xlfn.TEXTJOIN(CHAR(10),TRUE,Planlægning!E7,Planlægning!G7,Planlægning!I7),"") -> Vælg tema Vælg tema Vælg tema | F26: {=_xlfn._xlws.SORT(A26:D37,2)} -> Indsæt dato | G26: #N/A | H26: 1 | I26: Vælg tema Vælg tema Vælg tema
A27: =IF(Planlægning!C9<>"",Planlægning!C9,"") | B27: =IFERROR(MONTH(A27),INDEX($F$10:$F$21,MATCH(A27,$H$10:$H$21,0),1)) -> #N/A | C27: =IF(Planlægning!B9<>"",Planlægning!B9,"") -> 2 | D27: =IF(A27<>"",_xlfn.TEXTJOIN(CHAR(10),TRUE,Planlægning!E9,Planlægning!G9,Planlægning!I9),"") | G27: #N/A | H27: 2
A28: =IF(Planlægning!C11<>"",Planlægning!C11,"") | B28: =IFERROR(MONTH(A28),INDEX($F$10:$F$21,MATCH(A28,$H$10:$H$21,0),1)) -> #N/A | C28: =IF(Planlægning!B11<>"",Planlægning!B11,"") -> 3 | D28: =IF(A28<>"",_xlfn.TEXTJOIN(CHAR(10),TRUE,Planlægning!E11,Planlægning!G11,Planlægning!I11),"") | G28: #N/A | H28: 3
A29: =IF(Planlægning!C13<>"",Planlægning!C13,"") | B29: =IFERROR(MONTH(A29),INDEX($F$10:$F$21,MATCH(A29,$H$10:$H$21,0),1)) -> #N/A | C29: =IF(Planlægning!B13<>"",Planlægning!B13,"") -> 4 | D29: =IF(A29<>"",_xlfn.TEXTJOIN(CHAR(10),TRUE,Planlægning!E13,Planlægning!G13,Planlægning!I13),"") | G29: #N/A | H29: 4
A30: =IF(Planlægning!C15<>"",Planlægning!C15,"") | B30: =IFERROR(MONTH(A30),INDEX($F$10:$F$21,MATCH(A30,$H$10:$H$21,0),1)) -> #N/A | C30: =IF(Planlægning!B15<>"",Planlægning!B15,"") -> 5 | D30: =IF(A30<>"",_xlfn.TEXTJOIN(CHAR(10),TRUE,Planlægning!E15,Planlægning!G15,Planlægning!I15),"") | G30: #N/A | H30: 5
A31: =IF(Planlægning!C17<>"",Planlægning!C17,"") | B31: =IFERROR(MONTH(A31),INDEX($F$10:$F$21,MATCH(A31,$H$10:$H$21,0),1)) -> #N/A | C31: =IF(Planlægning!B17<>"",Planlægning!B17,"") -> 6 | D31: =IF(A31<>"",_xlfn.TEXTJOIN(CHAR(10),TRUE,Planlægning!E17,Planlægning!G17,Planlægning!I17),"") | G31: #N/A | H31: 6
A32: =IF(Planlægning!C19<>"",Planlægning!C19,"") | B32: =IFERROR(MONTH(A32),INDEX($F$10:$F$21,MATCH(A32,$H$10:$H$21,0),1)) -> #N/A | C32: =IF(Planlægning!B19<>"",Planlægning!B19,"") -> 7 | D32: =IF(A32<>"",_xlfn.TEXTJOIN(CHAR(10),TRUE,Planlægning!E19,Planlægning!G19,Planlægning!I19),"") | G32: #N/A | H32: 7
A33: =IF(Planlægning!C21<>"",Planlægning!C21,"") | B33: =IFERROR(MONTH(A33),INDEX($F$10:$F$21,MATCH(A33,$H$10:$H$21,0),1)) -> #N/A | C33: =IF(Planlægning!B21<>"",Planlægning!B21,"") -> 8 | D33: =IF(A33<>"",_xlfn.TEXTJOIN(CHAR(10),TRUE,Planlægning!E21,Planlægning!G21,Planlægning!I21),"") | G33: #N/A | H33: 8
A34: =IF(Planlægning!C23<>"",Planlægning!C23,"") | B34: =IFERROR(MONTH(A34),INDEX($F$10:$F$21,MATCH(A34,$H$10:$H$21,0),1)) -> #N/A | C34: =IF(Planlægning!B23<>"",Planlægning!B23,"") -> 9 | D34: =IF(A34<>"",_xlfn.TEXTJOIN(CHAR(10),TRUE,Planlægning!E23,Planlægning!G23,Planlægning!I23),"") | G34: #N/A | H34: 9
A35: =IF(Planlægning!C25<>"",Planlægning!C25,"") | B35: =IFERROR(MONTH(A35),INDEX($F$10:$F$21,MATCH(A35,$H$10:$H$21,0),1)) -> #N/A | C35: =IF(Planlægning!B25<>"",Planlægning!B25,"") -> 10 | D35: =IF(A35<>"",_xlfn.TEXTJOIN(CHAR(10),TRUE,Planlægning!E25,Planlægning!G25,Planlægning!I25),"") | G35: #N/A | H35: 10
A36: =IF(Planlægning!C27<>"",Planlægning!C27,"") | B36: =IFERROR(MONTH(A36),INDEX($F$10:$F$21,MATCH(A36,$H$10:$H$21,0),1)) -> #N/A | C36: =IF(Planlægning!B27<>"",Planlægning!B27,"") -> 11 | D36: =IF(A36<>"",_xlfn.TEXTJOIN(CHAR(10),TRUE,Planlægning!E27,Planlægning!G27,Planlægning!I27),"") | G36: #N/A | H36: 11
A37: =IF(Planlægning!C29<>"",Planlægning!C29,"") | B37: =IFERROR(MONTH(A37),INDEX($F$10:$F$21,MATCH(A37,$H$10:$H$21,0),1)) -> #N/A | C37: =IF(Planlægning!B29<>"",Planlægning!B29,"") -> 12 | D37: =IF(A37<>"",_xlfn.TEXTJOIN(CHAR(10),TRUE,Planlægning!E29,Planlægning!G29,Planlægning!I29),"") | G37: #N/A | H37: 12
A40: Displaydata for møde cirkel
D42: Mdr Delta | E42: Møde nr | F42: Tema | I42: Checkbox | J42: Nummer
A43: Offset | C43: =B44-1 -> #VALUE! | D43: =B44-1 -> #VALUE!
A44: =F26 -> Indsæt dato | B44: =IFERROR(G26,"") | D44: =IF(B44<>"",IF(OR(,B44=B46),0.5,IF(B44<>"",1,"")),) -> 0 | E44: =IF(A44<>"",TEXT("Møde: "&H26,),"") -> Møde: 1 | F44: =IF(A44<>"",I26,"") -> Vælg tema Vælg tema Vælg tema | J44: =Planlægning!B7 -> 1
C45: =IFERROR(IF(B46<>B44,B46-B44-1,0),"") -> 0 | D45: =IFERROR(C45,"") -> 0
A46: =F27 | B46: =IFERROR(G27,"") | D46: =IF(B46<>"",IF(OR(B46=B44,B46=B48),0.5,IF(B46<>"",1,"")),) -> 0 | E46: =IF(A46<>"",TEXT("Møde: "&H27,),"") | F46: =IF(A46<>"",I27,"") | I46: =Planlægning!A9 -> TRUE | J46: =IF(I46,COUNTIF(I46:I46,"True")+$J$44,"") -> 2
C47: =IFERROR(IF(B48<>B46,B48-B46-1,0),"") -> 0 | D47: =IFERROR(C47,"") -> 0 | E47: =IF(A47<>"",TEXT("Møde: "&H29,),"") | F47: =IF(A47<>"",I29,"")
A48: =F28 | B48: =IFERROR(G28,"") | D48: =IF(B48<>"",IF(OR(B48=B46,B48=B50),0.5,IF(B48<>"",1,"")),) -> 0 | E48: =IF(A48<>"",TEXT("Møde: "&H28,),"") | F48: =IF(A48<>"",I28,"") | I48: =Planlægning!A11 -> TRUE | J48: =IF(I48,COUNTIF(I46:I48,"True")+$J$44,"") -> 3
C49: =IFERROR(IF(B50<>B48,B50-B48-1,0),"") -> 0 | D49: =IFERROR(C49,"") -> 0 | F49: =IF(A49<>"",I31,"")
...
