Workbook
Name FilNavn: #REF!
Name FilPlacering: #REF!
Name Mitigering: Opsætning!#REF!

Sheet Planlægning
D1: Planlægning af årshjul for
D2: Virksomhed A/S
D3: =IF(COUNTIF($B$8:$B$30,"Dato fejl")>0,"FEJL: Dato i rød linje er ikke indtastet i (dd-mm-åååå) format",IF(COUNTIF($B$8:$B$30,"Ingen dato")>0, "FEJL: Dato mangler i rød linje","")) -> FEJL: Dato i rød linje er ikke indtastet i (dd-mm-åååå) format | I3: Hjælp
B5: Nr. | C5: Dato: (dd-mm-åå) | E5: Tema 1 | G5: Tema 2 | I5: Tema 3
C6: Forberedelse / Bilag | G6: Yderligere information
A7: # | B7: 1 | C7: Indsæt dato | E7: Vælg tema | G7: Vælg tema | I7: Vælg tema
B8: =IF(AND(C7="",E7="",G7="",I7=""),"",IF(AND(C7="",OR(E7<>"",G7<>"",I7<>"")),"Ingen dato",IF(COUNTIF(Grafdata!$H$10:$H$21,C7)>0,"",IF(AND(C7>40000,C7<60000),"","Dato fejl")))) -> Dato fejl | C8: Forberedelse / Bilag Tryk [Alt] & [Enter] for linjeskift | G8: Yderligere information Tryk [Alt] & [Enter] for linjeskift
A9: TRUE | B9: =Grafdata!J46 -> 2
B10: =IF(AND(C9="",E9="",G9="",I9=""),"",IF(AND(C9="",OR(E9<>"",G9<>"",I9<>"")),"Ingen dato",IF(COUNTIF(Grafdata!$H$10:$H$21,C9)>0,"",IF(AND(C9>40000,C9<60000),"","Dato fejl"))))
A11: TRUE | B11: =Grafdata!J48 -> 3
B12: =IF(AND(C11="",E11="",G11="",I11=""),"",IF(AND(C11="",OR(E11<>"",G11<>"",I11<>"")),"Ingen dato",IF(COUNTIF(Grafdata!$H$10:$H$21,C11)>0,"",IF(AND(C11>40000,C11<60000),"","Dato fejl"))))
A13: TRUE | B13: =Grafdata!J50 -> 4
B14: =IF(AND(C13="",E13="",G13="",I13=""),"",IF(AND(C13="",OR(E13<>"",G13<>"",I13<>"")),"Ingen dato",IF(COUNTIF(Grafdata!$H$10:$H$21,C13)>0,"",IF(AND(C13>40000,C13<60000),"","Dato fejl"))))
A15: TRUE | B15: =Grafdata!J52 -> 5
B16: =IF(AND(C15="",E15="",G15="",I15=""),"",IF(AND(C15="",OR(E15<>"",G15<>"",I15<>"")),"Ingen dato",IF(COUNTIF(Grafdata!$H$10:$H$21,C15)>0,"",IF(AND(C15>40000,C15<60000),"","Dato fejl"))))
A17: TRUE | B17: =Grafdata!J54 -> 6
B18: =IF(AND(C17="",E17="",G17="",I17=""),"",IF(AND(C17="",OR(E17<>"",G17<>"",I17<>"")),"Ingen dato",IF(COUNTIF(Grafdata!$H$10:$H$21,C17)>0,"",IF(AND(C17>40000,C17<60000),"","Dato fejl"))))
A19: TRUE | B19: =Grafdata!J56 -> 7
B20: =IF(AND(C19="",E19="",G19="",I19=""),"",IF(AND(C19="",OR(E19<>"",G19<>"",I19<>"")),"Ingen dato",IF(COUNTIF(Grafdata!$H$10:$H$21,C19)>0,"",IF(AND(C19>40000,C19<60000),"","Dato fejl"))))
A21: TRUE | B21: =Grafdata!J58 -> 8
B22: =IF(AND(C21="",E21="",G21="",I21=""),"",IF(AND(C21="",OR(E21<>"",G21<>"",I21<>"")),"Ingen dato",IF(COUNTIF(Grafdata!$H$10:$H$21,C21)>0,"",IF(AND(C21>40000,C21<60000),"","Dato fejl"))))
A23: TRUE | B23: =Grafdata!J60 -> 9
B24: =IF(AND(C23="",E23="",G23="",I23=""),"",IF(AND(C23="",OR(E23<>"",G23<>"",I23<>"")),"Ingen dato",IF(COUNTIF(Grafdata!$H$10:$H$21,C23)>0,"",IF(AND(C23>40000,C23<60000),"","Dato fejl"))))
A25: TRUE | B25: =Grafdata!J62 -> 10
B26: =IF(AND(C25="",E25="",G25="",I25=""),"",IF(AND(C25="",OR(E25<>"",G25<>"",I25<>"")),"Ingen dato",IF(COUNTIF(Grafdata!$H$10:$H$21,C25)>0,"",IF(AND(C25>40000,C25<60000),"","Dato fejl"))))
A27: TRUE | B27: =B25+1 -> 11
B28: =IF(AND(C27="",E27="",G27="",I27=""),"",IF(AND(C27="",OR(E27<>"",G27<>"",I27<>"")),"Ingen dato",IF(COUNTIF(Grafdata!$H$10:$H$21,C27)>0,"",IF(AND(C27>40000,C27<60000),"","Dato fejl"))))
A29: TRUE | B29: =Grafdata!J66 -> 12
B30: =IF(AND(C29="",E29="",G29="",I29=""),"",IF(AND(C29="",OR(E29<>"",G29<>"",I29<>"")),"Ingen dato",IF(COUNTIF(Grafdata!$H$10:$H$21,C29)>0,"",IF(AND(C29>40000,C29<60000),"","Dato fejl"))))
A32: Bemærkninger for alle møder og bestyrelsesarbejdet generelt
B44: Tryk [Alt] & [Enter] for linjeskift

Sheet Årshjul
D1: Årshjul for
D2: =Planlægning!D2 -> Virksomhed A/S
Q3: Hjælp
A31: =Planlægning!A32 -> Bemærkninger for alle møder og bestyrelsesarbejdet generelt
A32: =IF(Planlægning!A33="","",Planlægning!A33)
D52: Bestyrelsens årshjul for
D53: =Planlægning!D2 -> Virksomhed A/S
Q54: Hjælp
A58: =IF(Planlægning!C7<>"",TEXT("Møde # "&Planlægning!B7&", "&TEXT(Planlægning!C7,"dddd d. mmmm åååå"),),"") -> Møde # 1, Indsæt dato | J58: =IF(Planlægning!C9<>"",TEXT("Møde # "&Planlægning!B9&", "&TEXT(Planlægning!C9,"dddd d. mmmm åååå"),),"")
A59: =IF(A58<>"","Tema:","") -> Tema: | J59: =IF(J58<>"","Tema:","")
A60: =IF(A58<>"",TEXT(Planlægning!E7,),"") -> Vælg tema | J60: =IF(J58<>"",TEXT(Planlægning!E9,),"")
A61: =IF(A58<>"",TEXT(Planlægning!G7,),"") -> Vælg tema | J61: =IF(J58<>"",TEXT(Planlægning!G9,),"")
A62: =IF(A58<>"",TEXT(Planlægning!I7,),"") -> Vælg tema | J62: =IF(J58<>"",TEXT(Planlægning!I9,),"")
A63: =IF(A58<>"",IF(Planlægning!C8<>"",Planlægning!C8,""),"") -> Forberedelse / Bilag Tryk [Alt] & [Enter] for linjeskift | J63: =IF(J58<>"",IF(Planlægning!C10<>"",Planlægning!C10,""),"")
A66: =IF(A58<>"",IF(Planlægning!G8<>"",Planlægning!G8,""),"") -> Yderligere information Tryk [Alt] & [Enter] for linjeskift | J66: =IF(J58<>"",IF(Planlægning!G10<>"",Planlægning!G10,""),"")
A73: =IF(Planlægning!C11<>"",TEXT("Møde # "&Planlægning!B11&", "&TEXT(Planlægning!C11,"dddd d. mmmm åååå"),),"") | J73: =IF(Planlægning!C13<>"",TEXT("Møde # "&Planlægning!B13&", "&TEXT(Planlægning!C13,"dddd d. mmmm åååå"),),"")
A74: =IF(A73<>"","Tema:","") | J74: =IF(J73<>"","Tema:","")
A75: =IF(A73<>"",TEXT(Planlægning!E11,),"") | J75: =IF(J73<>"",TEXT(Planlægning!E13,),"")
A76: =IF(A73<>"",TEXT(Planlægning!G11,),"") | J76: =IF(J73<>"",TEXT(Planlægning!G13,),"")
A77: =IF(A73<>"",TEXT(Planlægning!I11,),"") | J77: =IF(J73<>"",TEXT(Planlægning!I13,),"")
A78: =IF(A73<>"",IF(Planlægning!C12<>"",Planlægning!C12,""),"") | J78: =IF(J73<>"",IF(Planlægning!C14<>"",Planlægning!C14,""),"")
A81: =IF(A73<>"",IF(Planlægning!G12<>"",Planlægning!G12,""),"") | J81: =IF(J73<>"",IF(Planlægning!G14<>"",Planlægning!G14,""),"")
A88: =IF(Planlægning!C15<>"",TEXT("Møde # "&Planlægning!B15&", "&TEXT(Planlægning!C15,"dddd d. mmmm åååå"),),"") | J88: =IF(Planlægning!C17<>"",TEXT("Møde # "&Planlægning!B17&", "&TEXT(Planlægning!C17,"dddd d. mmmm åååå"),),"")
A89: =IF(A88<>"","Tema:","") | J89: =IF(J88<>"","Tema:","")
A90: =IF(A88<>"",TEXT(Planlægning!E15,),"") | J90: =IF(J88<>"",TEXT(Planlægning!E17,),"")
A91: =IF(A88<>"",TEXT(Planlægning!G15,),"") | J91: =IF(J88<>"",TEXT(Planlægning!G17,),"")
A92: =IF(A88<>"",TEXT(Planlægning!I15,),"") | J92: =IF(J88<>"",TEXT(Planlægning!I17,),"")
A93: =IF(A88<>"",IF(Planlægning!C16<>"",Planlægning!C16,""),"") | J93: =IF(J88<>"",IF(Planlægning!C18<>"",Planlægning!C18,""),"")
A96: =IF(A88<>"",IF(Planlægning!G16<>"",Planlægning!G16,""),"") | J96: =IF(J88<>"",IF(Planlægning!G18<>"",Planlægning!G18,""),"")
A103: =IF(A108<>"","Årshjul","")
A108: =IF(Planlægning!C19<>"",TEXT("Møde # "&Planlægning!B19&", "&TEXT(Planlægning!C19,"dddd d. mmmm åååå"),),"") | J108: =IF(Planlægning!C21<>"",TEXT("Møde # "&Planlægning!B21&", "&TEXT(Planlægning!C21,"dddd d. mmmm åååå"),),"")
A109: =IF(A108<>"","Tema:","") | J109: =IF(J108<>"","Tema:","")
A110: =IF(A108<>"",TEXT(Planlægning!E19,),"") | J110: =IF(J108<>"",TEXT(Planlægning!E21,),"")
A111: =IF(A108<>"",TEXT(Planlægning!G19,),"") | J111: =IF(J108<>"",TEXT(Planlægning!G21,),"")
A112: =IF(A108<>"",TEXT(Planlægning!I19,),"") | J112: =IF(J108<>"",TEXT(Planlægning!I21,),"")
A113: =IF(A108<>"",IF(Planlægning!C20<>"",Planlægning!C20,""),"") | J113: =IF(J108<>"",IF(Planlægning!C22<>"",Planlægning!C22,""),"")
A116: =IF(A108<>"",IF(Planlægning!G20<>"",Planlægning!G20,""),"") | J116: =IF(J108<>"",IF(Planlægning!G22<>"",Planlægning!G22,""),"")
A123: =IF(Planlægning!C23<>"",TEXT("Møde # "&Planlægning!B23&", "&TEXT(Planlægning!C23,"dddd d. mmmm åååå"),),"") | J123: =IF(Planlægning!C25<>"",TEXT("Møde # "&Planlægning!B25&", "&TEXT(Planlægning!C25,"dddd d. mmmm åååå"),),"")
A124: =IF(A123<>"","Tema:","") | J124: =IF(J123<>"","Tema:","")
A125: =IF(A123<>"",TEXT(Planlægning!E23,),"") | J125: =IF(J123<>"",TEXT(Planlægning!E25,),"")
A126: =IF(A123<>"",TEXT(Planlægning!G23,),"") | J126: =IF(J123<>"",TEXT(Planlægning!G25,),"")
A127: =IF(A123<>"",TEXT(Planlægning!I23,),"") | J127: =IF(J123<>"",TEXT(Planlægning!I25,),"")
A128: =IF(A123<>"",IF(Planlægning!C24<>"",Planlægning!C24,""),"") | J128: =IF(J123<>"",IF(Planlægning!C26<>"",Planlægning!C26,""),"")
A131: =IF(A123<>"",IF(Planlægning!G24<>"",Planlægning!G24,""),"") | J131: =IF(J123<>"",IF(Planlægning!G26<>"",Planlægning!G26,""),"")
A138: =IF(Planlægning!C27<>"",TEXT("Møde # "&Planlægning!B27&", "&TEXT(Planlægning!C27,"dddd d. mmmm åååå"),),"") | J138: =IF(Planlægning!C29<>"",TEXT("Møde # "&Planlægning!B29&", "&TEXT(Planlægning!C29,"dddd d. mmmm åååå"),),"")
A139: =IF(A138<>"","Tema:","") | J139: =IF(J138<>"","Tema:","")
A140: =IF(A138<>"",TEXT(Planlægning!E27,),"") | J140: =IF(J138<>"",TEXT(Planlægning!E29,),"")
A141: =IF(A138<>"",TEXT(Planlægning!G27,),"") | J141: =IF(J138<>"",TEXT(Planlægning!G29,),"")
A142: =IF(A138<>"",TEXT(Planlægning!I27,),"") | J142: =IF(J138<>"",TEXT(Planlægning!I29,),"")
A143: =IF(A138<>"",IF(Planlægning!C28<>"",Planlægning!C28,""),"") | J143: =IF(J138<>"",IF(Planlægning!C30<>"",Planlægning!C30,""),"")
A146: =IF(A138<>"",IF(Planlægning!G28<>"",Planlægning!G28,""),"") | J146: =IF(J138<>"",IF(Planlægning!G30<>"",Planlægning!G30,""),"")

Sheet Opsætning
D1: Opsætning
F3: Læs Hjælp for du ændre noget her | R3: Hjælp
A5: Medtag | B5: Fast | C5: Temaer | H5: Ibrug | K5: Resterende | P5: Sorteret for blanke
A6: TRUE | B6: TRUE | C6: STRATEGI: | H6: =COUNTIF(Planlægning!E$7:I$23,IF(B6," ",C6))>0 -> FALSE | K6: =IF(A6,IF(H6,"",IF(C6<>"",C6,"")),"") -> STRATEGI: | P6: {=_xlfn._xlws.FILTER(K6:K122,(K6:K122<>""),)} -> STRATEGI:
A7: TRUE | B7: FALSE | C7: Strategiworkshop | H7: =COUNTIF(Planlægning!E$7:I$23,IF(B7," ",C7))>0 -> FALSE | K7: =IF(A7,IF(H7,"",IF(C7<>"",C7,"")),"") -> Strategiworkshop | P7: Strategiworkshop
A8: TRUE | B8: TRUE | C8: Strategiopfølgning | H8: =COUNTIF(Planlægning!E$7:I$23,IF(B8," ",C8))>0 -> FALSE | K8: =IF(A8,IF(H8,"",IF(C8<>"",C8,"")),"") -> Strategiopfølgning | P8: Strategiopfølgning
A9: TRUE | B9: FALSE | C9: Purpose, vision, mission | H9: =COUNTIF(Planlægning!E$7:I$23,IF(B9," ",C9))>0 -> FALSE | K9: =IF(A9,IF(H9,"",IF(C9<>"",C9,"")),"") -> Purpose, vision, mission | P9: Purpose, vision, mission
A10: TRUE | B10: FALSE | C10: Mål og KPI’er | H10: =COUNTIF(Planlægning!E$7:I$23,IF(B10," ",C10))>0 -> FALSE | K10: =IF(A10,IF(H10,"",IF(C10<>"",C10,"")),"") -> Mål og KPI’er | P10: Mål og KPI’er
A11: TRUE | B11: FALSE | H11: =COUNTIF(Planlægning!E$7:I$23,IF(B11," ",C11))>0 -> FALSE | K11: =IF(A11,IF(H11,"",IF(C11<>"",C11,"")),"") | P11: RISIKO:
A12: TRUE | B12: FALSE | H12: =COUNTIF(Planlægning!E$7:I$23,IF(B12," ",C12))>0 -> FALSE | K12: =IF(A12,IF(H12,"",IF(C12<>"",C12,"")),"") | P12: Risiko
A13: TRUE | B13: TRUE | C13: RISIKO: | H13: =COUNTIF(Planlægning!E$7:I$23,IF(B13," ",C13))>0 -> FALSE | K13: =IF(A13,IF(H13,"",IF(C13<>"",C13,"")),"") -> RISIKO: | P13: Risiko (IT/Cyber)
A14: TRUE | B14: TRUE | C14: Risiko | H14: =COUNTIF(Planlægning!E$7:I$23,IF(B14," ",C14))>0 -> FALSE | K14: =IF(A14,IF(H14,"",IF(C14<>"",C14,"")),"") -> Risiko | P14: Risiko workshop
A15: TRUE | B15: FALSE | C15: Risiko (IT/Cyber) | H15: =COUNTIF(Planlægning!E$7:I$23,IF(B15," ",C15))>0 -> FALSE | K15: =IF(A15,IF(H15,"",IF(C15<>"",C15,"")),"") -> Risiko (IT/Cyber) | P15: Risiko analyse
A16: TRUE | B16: FALSE | C16: Risiko workshop | H16: =COUNTIF(Planlægning!E$7:I$23,IF(B16," ",C16))>0 -> FALSE | K16: =IF(A16,IF(H16,"",IF(C16<>"",C16,"")),"") -> Risiko workshop | P16: Beredskabsplaner
A17: TRUE | B17: FALSE | C17: Risiko analyse | H17: =COUNTIF(Planlægning!E$7:I$23,IF(B17," ",C17))>0 -> FALSE | K17: =IF(A17,IF(H17,"",IF(C17<>"",C17,"")),"") -> Risiko analyse | P17: Forsikringer
A18: TRUE | C18: Beredskabsplaner | H18: =COUNTIF(Planlægning!E$7:I$23,IF(B18," ",C18))>0 -> FALSE | K18: =IF(A18,IF(H18,"",IF(C18<>"",C18,"")),"") -> Beredskabsplaner | P18: KAPITALBEREDSKAB:
A19: TRUE | C19: Forsikringer | H19: =COUNTIF(Planlægning!E$7:I$23,IF(B19," ",C19))>0 -> FALSE | K19: =IF(A19,IF(H19,"",IF(C19<>"",C19,"")),"") -> Forsikringer | P19: Kapitalberedskab
A20: TRUE | B20: FALSE | H20: =COUNTIF(Planlægning!E$7:I$23,IF(B20," ",C20))>0 -> FALSE | K20: =IF(A20,IF(H20,"",IF(C20<>"",C20,"")),"") | P20: Likviditetsanalyse
A21: TRUE | B21: FALSE | H21: =COUNTIF(Planlægning!E$7:I$23,IF(B21," ",C21))>0 -> FALSE | K21: =IF(A21,IF(H21,"",IF(C21<>"",C21,"")),"") | P21: Kapitalfremskaffelse
A22: TRUE | B22: FALSE | C22: KAPITALBEREDSKAB: | H22: =COUNTIF(Planlægning!E$7:I$23,IF(B22," ",C22))>0 -> FALSE | K22: =IF(A22,IF(H22,"",IF(C22<>"",C22,"")),"") -> KAPITALBEREDSKAB: | P22: GENERALFORSAMLING:
A23: TRUE | B23: TRUE | C23: Kapitalberedskab | H23: =COUNTIF(Planlægning!E$7:I$23,IF(B23," ",C23))>0 -> FALSE | K23: =IF(A23,IF(H23,"",IF(C23<>"",C23,"")),"") -> Kapitalberedskab | P23: Forberedelse af GF
A24: TRUE | B24: TRUE | C24: Likviditetsanalyse | H24: =COUNTIF(Planlægning!E$7:I$23,IF(B24," ",C24))>0 -> FALSE | K24: =IF(A24,IF(H24,"",IF(C24<>"",C24,"")),"") -> Likviditetsanalyse | P24: Generalforsamling
A25: TRUE | B25: TRUE | C25: Kapitalfremskaffelse | H25: =COUNTIF(Planlægning!E$7:I$23,IF(B25," ",C25))>0 -> FALSE | K25: =IF(A25,IF(H25,"",IF(C25<>"",C25,"")),"") -> Kapitalfremskaffelse | P25: Vedtægter
A26: TRUE | B26: FALSE | H26: =COUNTIF(Planlægning!E$7:I$23,IF(B26," ",C26))>0 -> FALSE | K26: =IF(A26,IF(H26,"",IF(C26<>"",C26,"")),"") | P26: Valg af bestyrelse
A27: TRUE | B27: FALSE | H27: =COUNTIF(Planlægning!E$7:I$23,IF(B27," ",C27))>0 -> FALSE | K27: =IF(A27,IF(H27,"",IF(C27<>"",C27,"")),"") | P27: Kontrakter og honorar
A28: TRUE | B28: TRUE | C28: GENERALFORSAMLING: | H28: =COUNTIF(Planlægning!E$7:I$23,IF(B28," ",C28))>0 -> FALSE | K28: =IF(A28,IF(H28,"",IF(C28<>"",C28,"")),"") -> GENERALFORSAMLING: | P28: ÅRSRAPPORT:
A29: TRUE | B29: FALSE | C29: Forberedelse af GF | H29: =COUNTIF(Planlægning!E$7:I$23,IF(B29," ",C29))>0 -> FALSE | K29: =IF(A29,IF(H29,"",IF(C29<>"",C29,"")),"") -> Forberedelse af GF | P29: Godkendelse Årsrapport
A30: TRUE | B30: FALSE | C30: Generalforsamling | H30: =COUNTIF(Planlægning!E$7:I$23,IF(B30," ",C30))>0 -> FALSE | K30: =IF(A30,IF(H30,"",IF(C30<>"",C30,"")),"") -> Generalforsamling | P30: Analyse af årsrapport
A31: TRUE | C31: Vedtægter | H31: =COUNTIF(Planlægning!E$7:I$23,IF(B31," ",C31))>0 -> FALSE | K31: =IF(A31,IF(H31,"",IF(C31<>"",C31,"")),"") -> Vedtægter | P31: RAPPORTERING:
A32: TRUE | C32: Valg af bestyrelse | H32: =COUNTIF(Planlægning!E$7:I$23,IF(B32," ",C32))>0 -> FALSE | K32: =IF(A32,IF(H32,"",IF(C32<>"",C32,"")),"") -> Valg af bestyrelse | P32: Kvartalsrapport
A33: TRUE | C33: Kontrakter og honorar | H33: =COUNTIF(Planlægning!E$7:I$23,IF(B33," ",C33))>0 -> FALSE | K33: =IF(A33,IF(H33,"",IF(C33<>"",C33,"")),"") -> Kontrakter og honorar | P33: Halvårsrapport
A34: TRUE | B34: FALSE | H34: =COUNTIF(Planlægning!E$7:I$23,IF(B34," ",C34))>0 -> FALSE | K34: =IF(A34,IF(H34,"",IF(C34<>"",C34,"")),"") | P34: BUDGET:
A35: TRUE | B35: FALSE | H35: =COUNTIF(Planlægning!E$7:I$23,IF(B35," ",C35))>0 -> FALSE | K35: =IF(A35,IF(H35,"",IF(C35<>"",C35,"")),"") | P35: Budgetramme
A36: TRUE | B36: TRUE | C36: ÅRSRAPPORT: | H36: =COUNTIF(Planlægning!E$7:I$23,IF(B36," ",C36))>0 -> FALSE | K36: =IF(A36,IF(H36,"",IF(C36<>"",C36,"")),"") -> ÅRSRAPPORT: | P36: Budgetgodkendelse
A37: TRUE | B37: FALSE | C37: Godkendelse Årsrapport | H37: =COUNTIF(Planlægning!E$7:I$23,IF(B37," ",C37))>0 -> FALSE | K37: =IF(A37,IF(H37,"",IF(C37<>"",C37,"")),"") -> Godkendelse Årsrapport | P37: Investeringer
A38: TRUE | B38: FALSE | C38: Analyse af årsrapport | H38: =COUNTIF(Planlægning!E$7:I$23,IF(B38," ",C38))>0 -> FALSE | K38: =IF(A38,IF(H38,"",IF(C38<>"",C38,"")),"") -> Analyse af årsrapport | P38: KUNDER & MARKED:
A39: TRUE | B39: FALSE | H39: =COUNTIF(Planlægning!E$7:I$23,IF(B39," ",C39))>0 -> FALSE | K39: =IF(A39,IF(H39,"",IF(C39<>"",C39,"")),"") | P39: Kundeanalyse
A40: TRUE | B40: FALSE | H40: =COUNTIF(Planlægning!E$7:I$23,IF(B40," ",C40))>0 -> FALSE | K40: =IF(A40,IF(H40,"",IF(C40<>"",C40,"")),"") | P40: Kundetilfredshed
A41: TRUE | B41: TRUE | C41: RAPPORTERING: | H41: =COUNTIF(Planlægning!E$7:I$23,IF(B41," ",C41))>0 -> FALSE | K41: =IF(A41,IF(H41,"",IF(C41<>"",C41,"")),"") -> RAPPORTERING: | P41: Markedsanalyse
A42: TRUE | B42: TRUE | C42: Kvartalsrapport | H42: =COUNTIF(Planlægning!E$7:I$23,IF(B42," ",C42))>0 -> FALSE | K42: =IF(A42,IF(H42,"",IF(C42<>"",C42,"")),"") -> Kvartalsrapport | P42: Konkurrentanalyse
A43: TRUE | B43: TRUE | C43: Halvårsrapport | H43: =COUNTIF(Planlægning!E$7:I$23,IF(B43," ",C43))>0 -> FALSE | K43: =IF(A43,IF(H43,"",IF(C43<>"",C43,"")),"") -> Halvårsrapport | P43: Forretningsmodel
A44: TRUE | B44: FALSE | H44: =COUNTIF(Planlægning!E$7:I$23,IF(B44," ",C44))>0 -> FALSE | K44: =IF(A44,IF(H44,"",IF(C44<>"",C44,"")),"") | P44: Eksportstrategi
A45: TRUE | B45: FALSE | H45: =COUNTIF(Planlægning!E$7:I$23,IF(B45," ",C45))>0 -> FALSE | K45: =IF(A45,IF(H45,"",IF(C45<>"",C45,"")),"") | P45: ORGANISERING:
A46: TRUE | B46: TRUE | C46: BUDGET: | H46: =COUNTIF(Planlægning!E$7:I$23,IF(B46," ",C46))>0 -> FALSE | K46: =IF(A46,IF(H46,"",IF(C46<>"",C46,"")),"") -> BUDGET: | P46: Medarbejdertilfredshed
A47: TRUE | B47: FALSE | C47: Budgetramme | H47: =COUNTIF(Planlægning!E$7:I$23,IF(B47," ",C47))>0 -> FALSE | K47: =IF(A47,IF(H47,"",IF(C47<>"",C47,"")),"") -> Budgetramme | P47: Org. og kompetencer
A48: TRUE | B48: FALSE | C48: Budgetgodkendelse | H48: =COUNTIF(Planlægning!E$7:I$23,IF(B48," ",C48))>0 -> FALSE | K48: =IF(A48,IF(H48,"",IF(C48<>"",C48,"")),"") -> Budgetgodkendelse | P48: Generationsskifte
A49: TRUE | B49: FALSE | C49: Investeringer | H49: =COUNTIF(Planlægning!E$7:I$23,IF(B49," ",C49))>0 -> FALSE | K49: =IF(A49,IF(H49,"",IF(C49<>"",C49,"")),"") -> Investeringer | P49: Sikkerhed & sundhed
A50: TRUE | H50: =COUNTIF(Planlægning!E$7:I$23,IF(B50," ",C50))>0 -> FALSE | K50: =IF(A50,IF(H50,"",IF(C50<>"",C50,"")),"") | P50: Ansættelsesvilkår, m.v.
A51: TRUE | B51: FALSE | H51: =COUNTIF(Planlægning!E$7:I$23,IF(B51," ",C51))>0 -> FALSE | K51: =IF(A51,IF(H51,"",IF(C51<>"",C51,"")),"") | P51: EMNER:
A52: TRUE | B52: FALSE | C52: KUNDER & MARKED: | H52: =COUNTIF(Planlægning!E$7:I$23,IF(B52," ",C52))>0 -> FALSE | K52: =IF(A52,IF(H52,"",IF(C52<>"",C52,"")),"") -> KUNDER & MARKED: | P52: Digitalisering (processer)
A53: TRUE | B53: FALSE | C53: Kundeanalyse | H53: =COUNTIF(Planlægning!E$7:I$23,IF(B53," ",C53))>0 -> FALSE | K53: =IF(A53,IF(H53,"",IF(C53<>"",C53,"")),"") -> Kundeanalyse | P53: Digitalisering (produkter)
A54: TRUE | B54: FALSE | C54: Kundetilfredshed | H54: =COUNTIF(Planlægning!E$7:I$23,IF(B54," ",C54))>0 -> FALSE | K54: =IF(A54,IF(H54,"",IF(C54<>"",C54,"")),"") -> Kundetilfredshed | P54: ESG - Bæredygtighed
A55: TRUE | C55: Markedsanalyse | H55: =COUNTIF(Planlægning!E$7:I$23,IF(B55," ",C55))>0 -> FALSE | K55: =IF(A55,IF(H55,"",IF(C55<>"",C55,"")),"") -> Markedsanalyse | P55: CSR
A56: TRUE | C56: Konkurrentanalyse | H56: =COUNTIF(Planlægning!E$7:I$23,IF(B56," ",C56))>0 -> FALSE | K56: =IF(A56,IF(H56,"",IF(C56<>"",C56,"")),"") -> Konkurrentanalyse | P56: Forskning & Udvikling
A57: TRUE | C57: Forretningsmodel | H57: =COUNTIF(Planlægning!E$7:I$23,IF(B57," ",C57))>0 -> FALSE | K57: =IF(A57,IF(H57,"",IF(C57<>"",C57,"")),"") -> Forretningsmodel | P57: Patentportefølje
A58: TRUE | C58: Eksportstrategi | H58: =COUNTIF(Planlægning!E$7:I$23,IF(B58," ",C58))>0 -> FALSE | K58: =IF(A58,IF(H58,"",IF(C58<>"",C58,"")),"") -> Eksportstrategi | P58: Patentstrategi
A59: TRUE | B59: FALSE | H59: =COUNTIF(Planlægning!E$7:I$23,IF(B59," ",C59))>0 -> FALSE | K59: =IF(A59,IF(H59,"",IF(C59<>"",C59,"")),"") | P59: Kommunikationsstrategi
A60: TRUE | B60: FALSE | H60: =COUNTIF(Planlægning!E$7:I$23,IF(B60," ",C60))>0 -> FALSE | K60: =IF(A60,IF(H60,"",IF(C60<>"",C60,"")),"") | P60: Branding
A61: TRUE | B61: FALSE | C61: ORGANISERING: | H61: =COUNTIF(Planlægning!E$7:I$23,IF(B61," ",C61))>0 -> FALSE | K61: =IF(A61,IF(H61,"",IF(C61<>"",C61,"")),"") -> ORGANISERING: | P61: Interessentstrategi
A62: TRUE | B62: FALSE | C62: Medarbejdertilfredshed | H62: =COUNTIF(Planlægning!E$7:I$23,IF(B62," ",C62))>0 -> FALSE | K62: =IF(A62,IF(H62,"",IF(C62<>"",C62,"")),"") -> Medarbejdertilfredshed | P62: MØDETYPE:
A63: TRUE | C63: Org. og kompetencer | H63: =COUNTIF(Planlægning!E$7:I$23,IF(B63," ",C63))>0 -> FALSE | K63: =IF(A63,IF(H63,"",IF(C63<>"",C63,"")),"") -> Org. og kompetencer | P63: Ordinært møde
A64: TRUE | B64: FALSE | C64: Generationsskifte | H64: =COUNTIF(Planlægning!E$7:I$23,IF(B64," ",C64))>0 -> FALSE | K64: =IF(A64,IF(H64,"",IF(C64<>"",C64,"")),"") -> Generationsskifte | P64: Workshop
A65: TRUE | B65: FALSE | C65: Sikkerhed & sundhed | H65: =COUNTIF(Planlægning!E$7:I$23,IF(B65," ",C65))>0 -> FALSE | K65: =IF(A65,IF(H65,"",IF(C65<>"",C65,"")),"") -> Sikkerhed & sundhed | P65: BESTYRELSESARBEJDET:
A66: TRUE | C66: Ansættelsesvilkår, m.v. | H66: =COUNTIF(Planlægning!E$7:I$23,IF(B66," ",C66))>0 -> FALSE | K66: =IF(A66,IF(H66,"",IF(C66<>"",C66,"")),"") -> Ansættelsesvilkår, m.v. | P66: Bestyrelses evaluering
A67: TRUE | B67: FALSE | H67: =COUNTIF(Planlægning!E$7:I$23,IF(B67," ",C67))>0 -> FALSE | K67: =IF(A67,IF(H67,"",IF(C67<>"",C67,"")),"") | P67: Evaluering af året
A68: TRUE | B68: FALSE | H68: =COUNTIF(Planlægning!E$7:I$23,IF(B68," ",C68))>0 -> FALSE | K68: =IF(A68,IF(H68,"",IF(C68<>"",C68,"")),"") | P68: Planlægning af årshjul
A69: TRUE | B69: FALSE | C69: EMNER: | H69: =COUNTIF(Planlægning!E$7:I$23,IF(B69," ",C69))>0 -> FALSE | K69: =IF(A69,IF(H69,"",IF(C69<>"",C69,"")),"") -> EMNER: | P69: Forretningsorden
A70: TRUE | B70: FALSE | C70: Digitalisering (processer) | H70: =COUNTIF(Planlægning!E$7:I$23,IF(B70," ",C70))>0 -> FALSE | K70: =IF(A70,IF(H70,"",IF(C70<>"",C70,"")),"") -> Digitalisering (processer) | P70: Bestyrelseskandidater
A71: TRUE | B71: FALSE | C71: Digitalisering (produkter) | H71: =COUNTIF(Planlægning!E$7:I$23,IF(B71," ",C71))>0 -> FALSE | K71: =IF(A71,IF(H71,"",IF(C71<>"",C71,"")),"") -> Digitalisering (produkter) | P71: Konstituering
A72: TRUE | B72: FALSE | C72: ESG - Bæredygtighed | H72: =COUNTIF(Planlægning!E$7:I$23,IF(B72," ",C72))>0 -> FALSE | K72: =IF(A72,IF(H72,"",IF(C72<>"",C72,"")),"") -> ESG - Bæredygtighed | P72: Bestyrelsesudvalg
A73: TRUE | C73: CSR | H73: =COUNTIF(Planlægning!E$7:I$23,IF(B73," ",C73))>0 -> FALSE | K73: =IF(A73,IF(H73,"",IF(C73<>"",C73,"")),"") -> CSR
A74: TRUE | C74: Forskning & Udvikling | H74: =COUNTIF(Planlægning!E$7:I$23,IF(B74," ",C74))>0 -> FALSE | K74: =IF(A74,IF(H74,"",IF(C74<>"",C74,"")),"") -> Forskning & Udvikling
A75: TRUE | C75: Patentportefølje | H75: =COUNTIF(Planlægning!E$7:I$23,IF(B75," ",C75))>0 -> FALSE | K75: =IF(A75,IF(H75,"",IF(C75<>"",C75,"")),"") -> Patentportefølje
A76: TRUE | C76: Patentstrategi | H76: =COUNTIF(Planlægning!E$7:I$23,IF(B76," ",C76))>0 -> FALSE | K76: =IF(A76,IF(H76,"",IF(C76<>"",C76,"")),"") -> Patentstrategi
A77: TRUE | C77: Kommunikationsstrategi | H77: =COUNTIF(Planlægning!E$7:I$23,IF(B77," ",C77))>0 -> FALSE | K77: =IF(A77,IF(H77,"",IF(C77<>"",C77,"")),"") -> Kommunikationsstrategi
A78: TRUE | C78: Branding | H78: =COUNTIF(Planlægning!E$7:I$23,IF(B78," ",C78))>0 -> FALSE | K78: =IF(A78,IF(H78,"",IF(C78<>"",C78,"")),"") -> Branding
A79: TRUE | C79: Interessentstrategi | H79: =COUNTIF(Planlægning!E$7:I$23,IF(B79," ",C79))>0 -> FALSE | K79: =IF(A79,IF(H79,"",IF(C79<>"",C79,"")),"") -> Interessentstrategi
A80: TRUE | B80: FALSE | H80: =COUNTIF(Planlægning!E$7:I$23,IF(B80," ",C80))>0 -> FALSE | K80: =IF(A80,IF(H80,"",IF(C80<>"",C80,"")),"")
A81: TRUE | B81: FALSE | H81: =COUNTIF(Planlægning!E$7:I$23,IF(B81," ",C81))>0 -> FALSE | K81: =IF(A81,IF(H81,"",IF(C81<>"",C81,"")),"")
A82: TRUE | B82: TRUE | C82: MØDETYPE: | H82: =COUNTIF(Planlægning!E$7:I$23,IF(B82," ",C82))>0 -> FALSE | K82: =IF(A82,IF(H82,"",IF(C82<>"",C82,"")),"") -> MØDETYPE:
A83: TRUE | B83: TRUE | C83: Ordinært møde | H83: =COUNTIF(Planlægning!E$7:I$23,IF(B83," ",C83))>0 -> FALSE | K83: =IF(A83,IF(H83,"",IF(C83<>"",C83,"")),"") -> Ordinært møde
A84: TRUE | B84: TRUE | C84: Workshop | H84: =COUNTIF(Planlægning!E$7:I$23,IF(B84," ",C84))>0 -> FALSE | K84: =IF(A84,IF(H84,"",IF(C84<>"",C84,"")),"") -> Workshop
A85: TRUE | H85: =COUNTIF(Planlægning!E$7:I$23,IF(B85," ",C85))>0 -> FALSE | K85: =IF(A85,IF(H85,"",IF(C85<>"",C85,"")),"")
A86: TRUE | B86: FALSE | H86: =COUNTIF(Planlægning!E$7:I$23,IF(B86," ",C86))>0 -> FALSE | K86: =IF(A86,IF(H86,"",IF(C86<>"",C86,"")),"")
A87: TRUE | C87: BESTYRELSESARBEJDET: | H87: =COUNTIF(Planlægning!E$7:I$23,IF(B87," ",C87))>0 -> FALSE | K87: =IF(A87,IF(H87,"",IF(C87<>"",C87,"")),"") -> BESTYRELSESARBEJDET:
A88: TRUE | B88: FALSE | C88: Bestyrelses evaluering | H88: =COUNTIF(Planlægning!E$7:I$23,IF(B88," ",C88))>0 -> FALSE | K88: =IF(A88,IF(H88,"",IF(C88<>"",C88,"")),"") -> Bestyrelses evaluering
A89: TRUE | C89: Evaluering af året | H89: =COUNTIF(Planlægning!E$7:I$23,IF(B89," ",C89))>0 -> FALSE | K89: =IF(A89,IF(H89,"",IF(C89<>"",C89,"")),"") -> Evaluering af året
A90: TRUE | C90: Planlægning af årshjul | H90: =COUNTIF(Planlægning!E$7:I$23,IF(B90," ",C90))>0 -> FALSE | K90: =IF(A90,IF(H90,"",IF(C90<>"",C90,"")),"") -> Planlægning af årshjul
A91: TRUE | C91: Forretningsorden | H91: =COUNTIF(Planlægning!E$7:I$23,IF(B91," ",C91))>0 -> FALSE | K91: =IF(A91,IF(H91,"",IF(C91<>"",C91,"")),"") -> Forretningsorden
A92: TRUE | B92: FALSE | C92: Bestyrelseskandidater | H92: =COUNTIF(Planlægning!E$7:I$23,IF(B92," ",C92))>0 -> FALSE | K92: =IF(A92,IF(H92,"",IF(C92<>"",C92,"")),"") -> Bestyrelseskandidater
A93: TRUE | B93: FALSE | C93: Konstituering | H93: =COUNTIF(Planlægning!E$7:I$23,IF(B93," ",C93))>0 -> FALSE | K93: =IF(A93,IF(H93,"",IF(C93<>"",C93,"")),"") -> Konstituering
A94: TRUE | B94: FALSE | C94: Bestyrelsesudvalg | H94: =COUNTIF(Planlægning!E$7:I$23,IF(B94," ",C94))>0 -> FALSE | K94: =IF(A94,IF(H94,"",IF(C94<>"",C94,"")),"") -> Bestyrelsesudvalg
A95: TRUE | H95: =COUNTIF(Planlægning!E$7:I$23,IF(B95," ",C95))>0 -> FALSE | K95: =IF(A95,IF(H95,"",IF(C95<>"",C95,"")),"")
A96: TRUE | H96: =COUNTIF(Planlægning!E$7:I$23,IF(B96," ",C96))>0 -> FALSE | K96: =IF(A96,IF(H96,"",IF(C96<>"",C96,"")),"")
A97: TRUE | H97: =COUNTIF(Planlægning!E$7:I$23,IF(B97," ",C97))>0 -> FALSE | K97: =IF(A97,IF(H97,"",IF(C97<>"",C97,"")),"")
A98: TRUE | H98: =COUNTIF(Planlægning!E$7:I$23,IF(B98," ",C98))>0 -> FALSE | K98: =IF(A98,IF(H98,"",IF(C98<>"",C98,"")),"")
A99: TRUE | H99: =COUNTIF(Planlægning!E$7:I$23,IF(B99," ",C99))>0 -> FALSE | K99: =IF(A99,IF(H99,"",IF(C99<>"",C99,"")),"")
A100: TRUE | H100: =COUNTIF(Planlægning!E$7:I$23,IF(B100," ",C100))>0 -> FALSE | K100: =IF(A100,IF(H100,"",IF(C100<>"",C100,"")),"")
A101: TRUE | H101: =COUNTIF(Planlægning!E$7:I$23,IF(B101," ",C101))>0 -> FALSE | K101: =IF(A101,IF(H101,"",IF(C101<>"",C101,"")),"")
A102: TRUE | B102: FALSE | H102: =COUNTIF(Planlægning!E$7:I$23,IF(B102," ",C102))>0 -> FALSE | K102: =IF(A102,IF(H102,"",IF(C102<>"",C102,"")),"")
...

Sheet Grafdata
D2: Hjælpeark for beregning for grafik
A6: Beregning af dato cirkel
A7: Year first | B7: {=INDEX(B10:B21,MATCH(TRUE,INDEX((B10:B21<>0),0),0))} | C7: =IFERROR(IF(B7=B8," "&B7,RIGHT(B7,2)&"/"&RIGHT(B8,2)),"")
A8: Year last | B8: {=LOOKUP(2,1/(B10:B21<>""),B10:B21)} -> #N/A | G8: Long | M8: Bold | N8: Norm
A9: Møde dato | B9: Møde år | C9: Måned | D9: Samme mdr. | F9: Nr. | G9: Short | I9: Møde mdr. sort | K9: Fordelt mdr | M9: med dato
A10: =IF(Planlægning!C7<>"",Planlægning!C7,"") -> Indsæt dato | B10: =IFERROR(YEAR(A10),"") | C10: =IFERROR(MONTH(A10),LEFT(A10,3)) -> Ind | D10: =IF(COUNTIF($C$10:C10,IF(C10="","xxx",C10))>1,"DUP","") | E10: =(IF(D11<>"DUP",TEXT(A10,"d. mmm"),TEXT(A10,"d. mmm")&CHAR(10)&TEXT(A11,"d. mmm"))) -> Indsæt dato | F10: 1 | G10: Jan | H10: Januar | I10: =IF(A10<>"",TEXT(A10,"mmm"),"") -> Indsæt dato | J10: =IF(COUNTIF($C$10:$C$21,G10),G10,"") | K10: =IF(COUNTIF($I$10:$I$21,G10),G10,"") | M10: =IF(K10<>"",IFERROR(INDEX($E$10:$E$21,MATCH(K10,$I$10:$I$21,0),1),""),J10) | N10: =IF(M10="",G10,"") -> Jan | O10: 1
A11: =IF(Planlægning!C9<>"",Planlægning!C9,"") | B11: =IFERROR(YEAR(A11),"") | C11: =IFERROR(MONTH(A11),LEFT(A11,3)) | D11: =IF(COUNTIF($C$10:C11,IF(C11="","xxx",C11))>1,"DUP","") | E11: =(IF(D12<>"DUP",TEXT(A11,"d. mmm"),TEXT(A11,"d. mmm")&CHAR(10)&TEXT(A12,"d. mmm"))) | F11: 2 | G11: Feb | H11: Februar | I11: =IF(A11<>"",TEXT(A11,"mmm"),"") | J11: =IF(COUNTIF($C$10:$C$21,G11),G11,"") | K11: =IF(COUNTIF($I$10:$I$21,G11),G11,"") | M11: =IF(K11<>"",IFERROR(INDEX($E$10:$E$21,MATCH(K11,$I$10:$I$21,0),1),""),J11) | N11: =IF(M11="",G11,"") -> Feb | O11: 1
A12: =IF(Planlægning!C11<>"",Planlægning!C11,"") | B12: =IFERROR(YEAR(A12),"") | C12: =IFERROR(MONTH(A12),LEFT(A12,3)) | D12: =IF(COUNTIF($C$10:C12,IF(C12="","xxx",C12))>1,"DUP","") | E12: =(IF(D13<>"DUP",TEXT(A12,"d. mmm"),TEXT(A12,"d. mmm")&CHAR(10)&TEXT(A13,"d. mmm"))) | F12: 3 | G12: Mar | H12: Marts | I12: =IF(A12<>"",TEXT(A12,"mmm"),"") | J12: =IF(COUNTIF($C$10:$C$21,G12),G12,"") | K12: =IF(COUNTIF($I$10:$I$21,G12),G12,"") | M12: =IF(K12<>"",IFERROR(INDEX($E$10:$E$21,MATCH(K12,$I$10:$I$21,0),1),""),J12) | N12: =IF(M12="",G12,"") -> Mar | O12: 1
A13: =IF(Planlægning!C13<>"",Planlægning!C13,"") | B13: =IFERROR(YEAR(A13),"") | C13: =IFERROR(MONTH(A13),LEFT(A13,3)) | D13: =IF(COUNTIF($C$10:C13,IF(C13="","xxx",C13))>1,"DUP","") | E13: =(IF(D14<>"DUP",TEXT(A13,"d. mmm"),TEXT(A13,"d. mmm")&CHAR(10)&TEXT(A14,"d. mmm"))) | F13: 4 | G13: Apr | H13: April | I13: =IF(A13<>"",TEXT(A13,"mmm"),"") | J13: =IF(COUNTIF($C$10:$C$21,G13),G13,"") | K13: =IF(COUNTIF($I$10:$I$21,G13),G13,"") | M13: =IF(K13<>"",IFERROR(INDEX($E$10:$E$21,MATCH(K13,$I$10:$I$21,0),1),""),J13) | N13: =IF(M13="",G13,"") -> Apr | O13: 1
A14: =IF(Planlægning!C15<>"",Planlægning!C15,"") | B14: =IFERROR(YEAR(A14),"") | C14: =IFERROR(MONTH(A14),LEFT(A14,3)) | D14: =IF(COUNTIF($C$10:C14,IF(C14="","xxx",C14))>1,"DUP","") | E14: =(IF(D15<>"DUP",TEXT(A14,"d. mmm"),TEXT(A14,"d. mmm")&CHAR(10)&TEXT(A15,"d. mmm"))) | F14: 5 | G14: Maj | H14: Maj | I14: =IF(A14<>"",TEXT(A14,"mmm"),"") | J14: =IF(COUNTIF($C$10:$C$21,G14),G14,"") | K14: =IF(COUNTIF($I$10:$I$21,G14),G14,"") | M14: =IF(K14<>"",IFERROR(INDEX($E$10:$E$21,MATCH(K14,$I$10:$I$21,0),1),""),J14) | N14: =IF(M14="",G14,"") -> Maj | O14: 1
A15: =IF(Planlægning!C17<>"",Planlægning!C17,"") | B15: =IFERROR(YEAR(A15),"") | C15: =IFERROR(MONTH(A15),LEFT(A15,3)) | D15: =IF(COUNTIF($C$10:C15,IF(C15="","xxx",C15))>1,"DUP","") | E15: =(IF(D16<>"DUP",TEXT(A15,"d. mmm"),TEXT(A15,"d. mmm")&CHAR(10)&TEXT(A16,"d. mmm"))) | F15: 6 | G15: Jun | H15: Juni | I15: =IF(A15<>"",TEXT(A15,"mmm"),"") | J15: =IF(COUNTIF($C$10:$C$21,G15),G15,"") | K15: =IF(COUNTIF($I$10:$I$21,G15),G15,"") | M15: =IF(K15<>"",IFERROR(INDEX($E$10:$E$21,MATCH(K15,$I$10:$I$21,0),1),""),J15) | N15: =IF(M15="",G15,"") -> Jun | O15: 1
A16: =IF(Planlægning!C19<>"",Planlægning!C19,"") | B16: =IFERROR(YEAR(A16),"") | C16: =IFERROR(MONTH(A16),LEFT(A16,3)) | D16: =IF(COUNTIF($C$10:C16,IF(C16="","xxx",C16))>1,"DUP","") | E16: =(IF(D17<>"DUP",TEXT(A16,"d. mmm"),TEXT(A16,"d. mmm")&CHAR(10)&TEXT(A17,"d. mmm"))) | F16: 7 | G16: Jul | H16: Juli | I16: =IF(A16<>"",TEXT(A16,"mmm"),"") | J16: =IF(COUNTIF($C$10:$C$21,G16),G16,"") | K16: =IF(COUNTIF($I$10:$I$21,G16),G16,"") | M16: =IF(K16<>"",IFERROR(INDEX($E$10:$E$21,MATCH(K16,$I$10:$I$21,0),1),""),J16) | N16: =IF(M16="",G16,"") -> Jul | O16: 1
A17: =IF(Planlægning!C21<>"",Planlægning!C21,"") | B17: =IFERROR(YEAR(A17),"") | C17: =IFERROR(MONTH(A17),LEFT(A17,3)) | D17: =IF(COUNTIF($C$10:C17,IF(C17="","xxx",C17))>1,"DUP","") | E17: =(IF(D18<>"DUP",TEXT(A17,"d. mmm"),TEXT(A17,"d. mmm")&CHAR(10)&TEXT(A18,"d. mmm"))) | F17: 8 | G17: Aug | H17: August | I17: =IF(A17<>"",TEXT(A17,"mmm"),"") | J17: =IF(COUNTIF($C$10:$C$21,G17),G17,"") | K17: =IF(COUNTIF($I$10:$I$21,G17),G17,"") | M17: =IF(K17<>"",IFERROR(INDEX($E$10:$E$21,MATCH(K17,$I$10:$I$21,0),1),""),J17) | N17: =IF(M17="",G17,"") -> Aug | O17: 1
A18: =IF(Planlægning!C23<>"",Planlægning!C23,"") | B18: =IFERROR(YEAR(A18),"") | C18: =IFERROR(MONTH(A18),LEFT(A18,3)) | D18: =IF(COUNTIF($C$10:C18,IF(C18="","xxx",C18))>1,"DUP","") | E18: =(IF(D19<>"DUP",TEXT(A18,"d. mmm"),TEXT(A18,"d. mmm")&CHAR(10)&TEXT(A19,"d. mmm"))) | F18: 9 | G18: Sep | H18: September | I18: =IF(A18<>"",TEXT(A18,"mmm"),"") | J18: =IF(COUNTIF($C$10:$C$21,G18),G18,"") | K18: =IF(COUNTIF($I$10:$I$21,G18),G18,"") | M18: =IF(K18<>"",IFERROR(INDEX($E$10:$E$21,MATCH(K18,$I$10:$I$21,0),1),""),J18) | N18: =IF(M18="",G18,"") -> Sep | O18: 1
A19: =IF(Planlægning!C25<>"",Planlægning!C25,"") | B19: =IFERROR(YEAR(A19),"") | C19: =IFERROR(MONTH(A19),LEFT(A19,3)) | D19: =IF(COUNTIF($C$10:C19,IF(C19="","xxx",C19))>1,"DUP","") | E19: =(IF(D20<>"DUP",TEXT(A19,"d. mmm"),TEXT(A19,"d. mmm")&CHAR(10)&TEXT(A20,"d. mmm"))) | F19: 10 | G19: Okt | H19: Oktober | I19: =IF(A19<>"",TEXT(A19,"mmm"),"") | J19: =IF(COUNTIF($C$10:$C$21,G19),G19,"") | K19: =IF(COUNTIF($I$10:$I$21,G19),G19,"") | M19: =IF(K19<>"",IFERROR(INDEX($E$10:$E$21,MATCH(K19,$I$10:$I$21,0),1),""),J19) | N19: =IF(M19="",G19,"") -> Okt | O19: 1
A20: =IF(Planlægning!C27<>"",Planlægning!C27,"") | B20: =IFERROR(YEAR(A20),"") | C20: =IFERROR(MONTH(A20),LEFT(A20,3)) | D20: =IF(COUNTIF($C$10:C20,IF(C20="","xxx",C20))>1,"DUP","") | E20: =(IF(D21<>"DUP",TEXT(A20,"d. mmm"),TEXT(A20,"d. mmm")&CHAR(10)&TEXT(A21,"d. mmm"))) | F20: 11 | G20: Nov | H20: November | I20: =IF(A20<>"",TEXT(A20,"mmm"),"") | J20: =IF(COUNTIF($C$10:$C$21,G20),G20,"") | K20: =IF(COUNTIF($I$10:$I$21,G20),G20,"") | M20: =IF(K20<>"",IFERROR(INDEX($E$10:$E$21,MATCH(K20,$I$10:$I$21,0),1),""),J20) | N20: =IF(M20="",G20,"") -> Nov | O20: 1
A21: =IF(Planlægning!C29<>"",Planlægning!C29,"") | B21: =IFERROR(YEAR(A21),"") | C21: =IFERROR(MONTH(A21),LEFT(A21,3)) | D21: =IF(COUNTIF($C$10:C21,IF(C21="","xxx",C21))>1,"DUP","") | E21: =(IF(D22<>"DUP",TEXT(A21,"d. mmm"),TEXT(A21,"d. mmm")&CHAR(10)&TEXT(A22,"d. mmm"))) | F21: 12 | G21: Dec | H21: December | I21: =IF(A21<>"",TEXT(A21,"mmm"),"") | J21: =IF(COUNTIF($C$10:$C$21,G21),G21,"") | K21: =IF(COUNTIF($I$10:$I$21,G21),G21,"") | M21: =IF(K21<>"",IFERROR(INDEX($E$10:$E$21,MATCH(K21,$I$10:$I$21,0),1),""),J21) | N21: =IF(M21="",G21,"") -> Dec | O21: 1
A23: Sortering af data for møde cirkel
A25: Dato | B25: Mdr nr | C25: Møde nr | D25: Temaer | F25: Dato | G25: Mdr nr | H25: Møde nr | I25: Temaer
A26: =IF(Planlægning!C7<>"",Planlægning!C7,"") -> Indsæt dato | B26: =IFERROR(MONTH(A26),INDEX($F$10:$F$21,MATCH(A26,$H$10:$H$21,0),1)) -> #N/A | C26: =IF(Planlægning!B7<>"",Planlægning!B7,"") -> 1 | D26: =IF(A26<>"",_xlfn.TEXTJOIN(CHAR(10),TRUE,Planlægning!E7,Planlægning!G7,Planlægning!I7),"") -> Vælg tema Vælg tema Vælg tema | F26: {=_xlfn._xlws.SORT(A26:D37,2)} -> Indsæt dato | G26: #N/A | H26: 1 | I26: Vælg tema Vælg tema Vælg tema
A27: =IF(Planlægning!C9<>"",Planlægning!C9,"") | B27: =IFERROR(MONTH(A27),INDEX($F$10:$F$21,MATCH(A27,$H$10:$H$21,0),1)) -> #N/A | C27: =IF(Planlægning!B9<>"",Planlægning!B9,"") -> 2 | D27: =IF(A27<>"",_xlfn.TEXTJOIN(CHAR(10),TRUE,Planlægning!E9,Planlægning!G9,Planlægning!I9),"") | G27: #N/A | H27: 2
A28: =IF(Planlægning!C11<>"",Planlægning!C11,"") | B28: =IFERROR(MONTH(A28),INDEX($F$10:$F$21,MATCH(A28,$H$10:$H$21,0),1)) -> #N/A | C28: =IF(Planlægning!B11<>"",Planlægning!B11,"") -> 3 | D28: =IF(A28<>"",_xlfn.TEXTJOIN(CHAR(10),TRUE,Planlægning!E11,Planlægning!G11,Planlægning!I11),"") | G28: #N/A | H28: 3
A29: =IF(Planlægning!C13<>"",Planlægning!C13,"") | B29: =IFERROR(MONTH(A29),INDEX($F$10:$F$21,MATCH(A29,$H$10:$H$21,0),1)) -> #N/A | C29: =IF(Planlægning!B13<>"",Planlægning!B13,"") -> 4 | D29: =IF(A29<>"",_xlfn.TEXTJOIN(CHAR(10),TRUE,Planlægning!E13,Planlægning!G13,Planlægning!I13),"") | G29: #N/A | H29: 4
A30: =IF(Planlægning!C15<>"",Planlægning!C15,"") | B30: =IFERROR(MONTH(A30),INDEX($F$10:$F$21,MATCH(A30,$H$10:$H$21,0),1)) -> #N/A | C30: =IF(Planlægning!B15<>"",Planlægning!B15,"") -> 5 | D30: =IF(A30<>"",_xlfn.TEXTJOIN(CHAR(10),TRUE,Planlægning!E15,Planlægning!G15,Planlægning!I15),"") | G30: #N/A | H30: 5
A31: =IF(Planlægning!C17<>"",Planlægning!C17,"") | B31: =IFERROR(MONTH(A31),INDEX($F$10:$F$21,MATCH(A31,$H$10:$H$21,0),1)) -> #N/A | C31: =IF(Planlægning!B17<>"",Planlægning!B17,"") -> 6 | D31: =IF(A31<>"",_xlfn.TEXTJOIN(CHAR(10),TRUE,Planlægning!E17,Planlægning!G17,Planlægning!I17),"") | G31: #N/A | H31: 6
A32: =IF(Planlægning!C19<>"",Planlægning!C19,"") | B32: =IFERROR(MONTH(A32),INDEX($F$10:$F$21,MATCH(A32,$H$10:$H$21,0),1)) -> #N/A | C32: =IF(Planlægning!B19<>"",Planlægning!B19,"") -> 7 | D32: =IF(A32<>"",_xlfn.TEXTJOIN(CHAR(10),TRUE,Planlægning!E19,Planlægning!G19,Planlægning!I19),"") | G32: #N/A | H32: 7
A33: =IF(Planlægning!C21<>"",Planlægning!C21,"") | B33: =IFERROR(MONTH(A33),INDEX($F$10:$F$21,MATCH(A33,$H$10:$H$21,0),1)) -> #N/A | C33: =IF(Planlægning!B21<>"",Planlægning!B21,"") -> 8 | D33: =IF(A33<>"",_xlfn.TEXTJOIN(CHAR(10),TRUE,Planlægning!E21,Planlægning!G21,Planlægning!I21),"") | G33: #N/A | H33: 8
A34: =IF(Planlægning!C23<>"",Planlægning!C23,"") | B34: =IFERROR(MONTH(A34),INDEX($F$10:$F$21,MATCH(A34,$H$10:$H$21,0),1)) -> #N/A | C34: =IF(Planlægning!B23<>"",Planlægning!B23,"") -> 9 | D34: =IF(A34<>"",_xlfn.TEXTJOIN(CHAR(10),TRUE,Planlægning!E23,Planlægning!G23,Planlægning!I23),"") | G34: #N/A | H34: 9
A35: =IF(Planlægning!C25<>"",Planlægning!C25,"") | B35: =IFERROR(MONTH(A35),INDEX($F$10:$F$21,MATCH(A35,$H$10:$H$21,0),1)) -> #N/A | C35: =IF(Planlægning!B25<>"",Planlægning!B25,"") -> 10 | D35: =IF(A35<>"",_xlfn.TEXTJOIN(CHAR(10),TRUE,Planlægning!E25,Planlægning!G25,Planlægning!I25),"") | G35: #N/A | H35: 10
A36: =IF(Planlægning!C27<>"",Planlægning!C27,"") | B36: =IFERROR(MONTH(A36),INDEX($F$10:$F$21,MATCH(A36,$H$10:$H$21,0),1)) -> #N/A | C36: =IF(Planlægning!B27<>"",Planlægning!B27,"") -> 11 | D36: =IF(A36<>"",_xlfn.TEXTJOIN(CHAR(10),TRUE,Planlægning!E27,Planlægning!G27,Planlægning!I27),"") | G36: #N/A | H36: 11
A37: =IF(Planlægning!C29<>"",Planlægning!C29,"") | B37: =IFERROR(MONTH(A37),INDEX($F$10:$F$21,MATCH(A37,$H$10:$H$21,0),1)) -> #N/A | C37: =IF(Planlægning!B29<>"",Planlægning!B29,"") -> 12 | D37: =IF(A37<>"",_xlfn.TEXTJOIN(CHAR(10),TRUE,Planlægning!E29,Planlægning!G29,Planlægning!I29),"") | G37: #N/A | H37: 12
A40: Displaydata for møde cirkel
D42: Mdr Delta | E42: Møde nr | F42: Tema | I42: Checkbox | J42: Nummer
A43: Offset | C43: =B44-1 -> #VALUE! | D43: =B44-1 -> #VALUE!
A44: =F26 -> Indsæt dato | B44: =IFERROR(G26,"") | D44: =IF(B44<>"",IF(OR(,B44=B46),0.5,IF(B44<>"",1,"")),) -> 0 | E44: =IF(A44<>"",TEXT("Møde: "&H26,),"") -> Møde: 1 | F44: =IF(A44<>"",I26,"") -> Vælg tema Vælg tema Vælg tema | J44: =Planlægning!B7 -> 1
C45: =IFERROR(IF(B46<>B44,B46-B44-1,0),"") -> 0 | D45: =IFERROR(C45,"") -> 0
A46: =F27 | B46: =IFERROR(G27,"") | D46: =IF(B46<>"",IF(OR(B46=B44,B46=B48),0.5,IF(B46<>"",1,"")),) -> 0 | E46: =IF(A46<>"",TEXT("Møde: "&H27,),"") | F46: =IF(A46<>"",I27,"") | I46: =Planlægning!A9 -> TRUE | J46: =IF(I46,COUNTIF(I46:I46,"True")+$J$44,"") -> 2
C47: =IFERROR(IF(B48<>B46,B48-B46-1,0),"") -> 0 | D47: =IFERROR(C47,"") -> 0 | E47: =IF(A47<>"",TEXT("Møde: "&H29,),"") | F47: =IF(A47<>"",I29,"")
A48: =F28 | B48: =IFERROR(G28,"") | D48: =IF(B48<>"",IF(OR(B48=B46,B48=B50),0.5,IF(B48<>"",1,"")),) -> 0 | E48: =IF(A48<>"",TEXT("Møde: "&H28,),"") | F48: =IF(A48<>"",I28,"") | I48: =Planlægning!A11 -> TRUE | J48: =IF(I48,COUNTIF(I46:I48,"True")+$J$44,"") -> 3
C49: =IFERROR(IF(B50<>B48,B50-B48-1,0),"") -> 0 | D49: =IFERROR(C49,"") -> 0 | F49: =IF(A49<>"",I31,"")
A50: =F29 | B50: =IFERROR(G29,"") | D50: =IF(B50<>"",IF(OR(B50=B48,B50=B52),0.5,IF(B50<>"",1,"")),) -> 0 | E50: =IF(A50<>"",TEXT("Møde: "&H29,),"") | F50: =IF(A50<>"",I29,"") | I50: =Planlægning!A13 -> TRUE | J50: =IF(I50,COUNTIF(I$46:I50,"True")+$J$44,"") -> 4
C51: =IFERROR(IF(B52<>B50,B52-B50-1,0),"") -> 0 | D51: =IFERROR(C51,"") -> 0 | F51: =IF(A51<>"",I33,"") | J51: =IF(I51,COUNTIF(I$46:I51,"True")+$J$44,"")
A52: =F30 | B52: =IFERROR(G30,"") | D52: =IF(B52<>"",IF(OR(B52=B50,B52=B54),0.5,IF(B52<>"",1,"")),) -> 0 | E52: =IF(A52<>"",TEXT("Møde: "&H30,),"") | F52: =IF(A52<>"",I30,"") | I52: =Planlægning!A15 -> TRUE | J52: =IF(I52,COUNTIF(I$46:I52,"True")+$J$44,"") -> 5
C53: =IFERROR(IF(B54<>B52,B54-B52-1,0),"") -> 0 | D53: =IFERROR(C53,"") -> 0 | F53: =IF(A53<>"",I35,"") | J53: =IF(I53,COUNTIF(I$46:I53,"True")+$J$44,"")
A54: =F31 | B54: =IFERROR(G31,"") | D54: =IF(B54<>"",IF(OR(B54=B52,B54=B56),0.5,IF(B54<>"",1,"")),) -> 0 | E54: =IF(A54<>"",TEXT("Møde: "&H31,),"") | F54: =IF(A54<>"",I31,"") | I54: =Planlægning!A17 -> TRUE | J54: =IF(I54,COUNTIF(I$46:I54,"True")+$J$44,"") -> 6
C55: =IFERROR(IF(B56<>B54,B56-B54-1,0),"") -> 0 | D55: =IFERROR(C55,"") -> 0 | F55: =IF(A55<>"",I37,"") | J55: =IF(I55,COUNTIF(I$46:I55,"True")+$J$44,"")
A56: =F32 | B56: =IFERROR(G32,"") | D56: =IF(B56<>"",IF(OR(B56=B54,B56=B58),0.5,IF(B56<>"",1,"")),) -> 0 | E56: =IF(A56<>"",TEXT("Møde: "&H32,),"") | F56: =IF(A56<>"",I32,"") | I56: =Planlægning!A19 -> TRUE | J56: =IF(I56,COUNTIF(I$46:I56,"True")+$J$44,"") -> 7
C57: =IFERROR(IF(B58<>B56,B58-B56-1,0),"") -> 0 | D57: =IFERROR(C57,"") -> 0 | F57: =IF(A57<>"",I39,"") | J57: =IF(I57,COUNTIF(I$46:I57,"True")+$J$44,"")
A58: =F33 | B58: =IFERROR(G33,"") | D58: =IF(B58<>"",IF(OR(B58=B56,B58=B60),0.5,IF(B58<>"",1,"")),) -> 0 | E58: =IF(A58<>"",TEXT("Møde: "&H33,),"") | F58: =IF(A58<>"",I33,"") | I58: =Planlægning!A21 -> TRUE | J58: =IF(I58,COUNTIF(I$46:I58,"True")+$J$44,"") -> 8
C59: =IFERROR(IF(B60<>B58,B60-B58-1,0),"") -> 0 | D59: =IFERROR(C59,"") -> 0 | F59: =IF(A59<>"",I41,"") | J59: =IF(I59,COUNTIF(I$46:I59,"True")+$J$44,"")
A60: =F34 | B60: =IFERROR(G34,"") | D60: =IF(B60<>"",IF(OR(B60=B58,B60=B62),0.5,IF(B60<>"",1,"")),) -> 0 | E60: =IF(A60<>"",TEXT("Møde: "&H34,),"") | F60: =IF(A60<>"",I34,"") | I60: =Planlægning!A23 -> TRUE | J60: =IF(I60,COUNTIF(I$46:I60,"True")+$J$44,"") -> 9
C61: =IFERROR(IF(B62<>B60,B62-B60-1,0),"") -> 0 | D61: =IFERROR(C61,"") -> 0 | F61: =IF(A61<>"",I43,"") | J61: =IF(I61,COUNTIF(I$46:I61,"True")+$J$44,"")
A62: =F35 | B62: =IFERROR(G35,"") | D62: =IF(B62<>"",IF(OR(B62=B60,B62=B64),0.5,IF(B62<>"",1,"")),) -> 0 | E62: =IF(A62<>"",TEXT("Møde: "&H34,),"") | F62: =IF(A62<>"",I35,"") | I62: =Planlægning!A25 -> TRUE | J62: =IF(I62,COUNTIF(I$46:I62,"True")+$J$44,"") -> 10
C63: =IFERROR(IF(B64<>B62,B64-B62-1,0),"") -> 0 | D63: =IFERROR(C63,"") -> 0 | F63: =IF(A63<>"",I45,"") | J63: =IF(I63,COUNTIF(I$46:I63,"True")+$J$44,"")
A64: =F36 | B64: =IFERROR(G36,"") | D64: =IF(B64<>"",IF(OR(B64=B62,B64=B66),0.5,IF(B64<>"",1,"")),) -> 0 | E64: =IF(A64<>"",TEXT("Møde: "&H36,),"") | F64: =IF(A64<>"",I36,"") | I64: =Planlægning!A27 -> TRUE | J64: =IF(I64,COUNTIF(I$46:I64,"True")+$J$44,"") -> 11
C65: =IFERROR(IF(B66<>B64,B66-B64-1,0),"") -> 0 | D65: =IFERROR(C65,"") -> 0 | F65: =IF(A65<>"",I47,"") | J65: =IF(I65,COUNTIF(I$46:I65,"True")+$J$44,"")
A66: =F37 | B66: =IFERROR(G37,"") | D66: =IF(B66<>"",IF(OR(B66=B64,),0.5,IF(B66<>"",1,"")),) -> 0 | E66: =IF(A66<>"",TEXT("Møde: "&H37,),"") | F66: =IF(A66<>"",I37,"") | I66: =Planlægning!A29 -> TRUE | J66: =IF(I66,COUNTIF(I$46:I66,"True")+$J$44,"") -> 12
A67: Rest | D67: =12-SUM(D43:D66) -> #VALUE!
E68: =IF(A68<>"",TEXT("Møde: "&H37,),"")
